
BEGIN:VCALENDAR
VERSION:2.0
PRODID:-//CAP Network Ireland - ECPv6.15.20//NONSGML v1.0//EN
CALSCALE:GREGORIAN
METHOD:PUBLISH
X-WR-CALNAME:CAP Network Ireland
X-ORIGINAL-URL:https://capnetworkireland.eu
X-WR-CALDESC:Events for CAP Network Ireland
REFRESH-INTERVAL;VALUE=DURATION:PT1H
X-Robots-Tag:noindex
X-PUBLISHED-TTL:PT1H
BEGIN:VTIMEZONE
TZID:Europe/Dublin
BEGIN:STANDARD
TZOFFSETFROM:+0000
TZOFFSETTO:+0100
TZNAME:IST
DTSTART:20240331T010000
END:STANDARD
BEGIN:DAYLIGHT
TZOFFSETFROM:+0100
TZOFFSETTO:+0000
TZNAME:GMT
DTSTART:20241027T010000
END:DAYLIGHT
BEGIN:STANDARD
TZOFFSETFROM:+0000
TZOFFSETTO:+0100
TZNAME:IST
DTSTART:20250330T010000
END:STANDARD
BEGIN:DAYLIGHT
TZOFFSETFROM:+0100
TZOFFSETTO:+0000
TZNAME:GMT
DTSTART:20251026T010000
END:DAYLIGHT
BEGIN:STANDARD
TZOFFSETFROM:+0000
TZOFFSETTO:+0100
TZNAME:IST
DTSTART:20260329T010000
END:STANDARD
BEGIN:DAYLIGHT
TZOFFSETFROM:+0100
TZOFFSETTO:+0000
TZNAME:GMT
DTSTART:20261025T010000
END:DAYLIGHT
END:VTIMEZONE
BEGIN:VEVENT
DTSTART;TZID=Europe/Dublin:20250701T170000
DTEND;TZID=Europe/Dublin:20250703T210000
DTSTAMP:20260420T140919
CREATED:20250328T105513Z
LAST-MODIFIED:20250328T105513Z
UID:10000374-1751389200-1751576400@capnetworkireland.eu
SUMMARY:LEADER Inspired Network Community (LINC) 2025 event
DESCRIPTION:The 2025 edition of LINC ““ the LEADER Inspired Network Community event ““ will take place in Austria on 1-3 July. This year’s edition focuses on ‘Alpine connections’ and will include networking\, study visits and the unmissable LEADER Cooperation Corner. Registrations are now open.
URL:https://capnetworkireland.eu/event/leader-inspired-network-community-linc-2025-event-2/
LOCATION:St. Anton am Arlberg\, Austria
CATEGORIES:International Events
END:VEVENT
BEGIN:VEVENT
DTSTART;TZID=Europe/Dublin:20250701T080000
DTEND;TZID=Europe/Dublin:20250703T210000
DTSTAMP:20260420T140919
CREATED:20250328T105513Z
LAST-MODIFIED:20250429T154417Z
UID:10000161-1751356800-1751576400@capnetworkireland.eu
SUMMARY:LEADER Inspired Network Community (LINC) 2025 event
DESCRIPTION:The 2025 edition of LINC – the LEADER Inspired Network Community event – will take place in Austria on 1-3 July. This year’s edition focuses on ‘Alpine connections’ and will include networking\, study visits and the unmissable LEADER Cooperation Corner. Registrations are now open.
URL:https://capnetworkireland.eu/event/leader-inspired-network-community-linc-2025-event/
LOCATION:St. Anton am Arlberg\, Austria
CATEGORIES:International Events
END:VEVENT
END:VCALENDAR