
BEGIN:VCALENDAR
VERSION:2.0
PRODID:-//CAP Network Ireland - ECPv6.15.20//NONSGML v1.0//EN
CALSCALE:GREGORIAN
METHOD:PUBLISH
X-WR-CALNAME:CAP Network Ireland
X-ORIGINAL-URL:https://capnetworkireland.eu
X-WR-CALDESC:Events for CAP Network Ireland
REFRESH-INTERVAL;VALUE=DURATION:PT1H
X-Robots-Tag:noindex
X-PUBLISHED-TTL:PT1H
BEGIN:VTIMEZONE
TZID:Europe/Dublin
BEGIN:STANDARD
TZOFFSETFROM:+0000
TZOFFSETTO:+0100
TZNAME:IST
DTSTART:20240331T010000
END:STANDARD
BEGIN:DAYLIGHT
TZOFFSETFROM:+0100
TZOFFSETTO:+0000
TZNAME:GMT
DTSTART:20241027T010000
END:DAYLIGHT
BEGIN:STANDARD
TZOFFSETFROM:+0000
TZOFFSETTO:+0100
TZNAME:IST
DTSTART:20250330T010000
END:STANDARD
BEGIN:DAYLIGHT
TZOFFSETFROM:+0100
TZOFFSETTO:+0000
TZNAME:GMT
DTSTART:20251026T010000
END:DAYLIGHT
BEGIN:STANDARD
TZOFFSETFROM:+0000
TZOFFSETTO:+0100
TZNAME:IST
DTSTART:20260329T010000
END:STANDARD
BEGIN:DAYLIGHT
TZOFFSETFROM:+0100
TZOFFSETTO:+0000
TZNAME:GMT
DTSTART:20261025T010000
END:DAYLIGHT
END:VTIMEZONE
BEGIN:VEVENT
DTSTART;TZID=Europe/Dublin:20250605T080000
DTEND;TZID=Europe/Dublin:20250605T173000
DTSTAMP:20260423T142915
CREATED:20250325T112945Z
LAST-MODIFIED:20250429T161212Z
UID:10000165-1749110400-1749144600@capnetworkireland.eu
SUMMARY:‘Agriculture and Climate Change: Science into Action’ Conference
DESCRIPTION:‘Agriculture & Climate Change: Science into Action’ is a national conference hosted by The Department of Agriculture\, Food and the Marine\, with the purpose to address the relationship between agriculture and climate change\, focussing particularly on scientific updates and implementation on farms of climate mitigation practice.
URL:https://capnetworkireland.eu/event/agriculture-and-climate-change-conference/
LOCATION:Printworks Conference Centre\, Dublin Castle\, Co. Dublin
CATEGORIES:General Events
END:VEVENT
BEGIN:VEVENT
DTSTART;TZID=Europe/Dublin:20250605T080000
DTEND;TZID=Europe/Dublin:20250605T173000
DTSTAMP:20260423T142915
CREATED:20250325T112945Z
LAST-MODIFIED:20250325T112945Z
UID:10000377-1749110400-1749144600@capnetworkireland.eu
SUMMARY:'Agriculture and Climate Change: Science into Action' Conference
DESCRIPTION:‘Agriculture & Climate Change: Science into Action’ is a national conference hosted by The Department of Agriculture\, Food and the Marine\, with the purpose to address the relationship between agriculture and climate change\, focussing particularly on scientific updates and implementation on farms of climate mitigation practice.
URL:https://capnetworkireland.eu/event/agriculture-and-climate-change-conference-2/
LOCATION:Printworks Conference Centre\, Dublin Castle\, Co. Dublin
CATEGORIES:General Events
END:VEVENT
END:VCALENDAR