
BEGIN:VCALENDAR
VERSION:2.0
PRODID:-//CAP Network Ireland - ECPv6.15.20//NONSGML v1.0//EN
CALSCALE:GREGORIAN
METHOD:PUBLISH
X-ORIGINAL-URL:https://capnetworkireland.eu
X-WR-CALDESC:Events for CAP Network Ireland
REFRESH-INTERVAL;VALUE=DURATION:PT1H
X-Robots-Tag:noindex
X-PUBLISHED-TTL:PT1H
BEGIN:VTIMEZONE
TZID:Europe/Dublin
BEGIN:STANDARD
TZOFFSETFROM:+0000
TZOFFSETTO:+0100
TZNAME:IST
DTSTART:20240331T010000
END:STANDARD
BEGIN:DAYLIGHT
TZOFFSETFROM:+0100
TZOFFSETTO:+0000
TZNAME:GMT
DTSTART:20241027T010000
END:DAYLIGHT
BEGIN:STANDARD
TZOFFSETFROM:+0000
TZOFFSETTO:+0100
TZNAME:IST
DTSTART:20250330T010000
END:STANDARD
BEGIN:DAYLIGHT
TZOFFSETFROM:+0100
TZOFFSETTO:+0000
TZNAME:GMT
DTSTART:20251026T010000
END:DAYLIGHT
BEGIN:STANDARD
TZOFFSETFROM:+0000
TZOFFSETTO:+0100
TZNAME:IST
DTSTART:20260329T010000
END:STANDARD
BEGIN:DAYLIGHT
TZOFFSETFROM:+0100
TZOFFSETTO:+0000
TZNAME:GMT
DTSTART:20261025T010000
END:DAYLIGHT
END:VTIMEZONE
BEGIN:VEVENT
DTSTART;TZID=Europe/Dublin:20250328T093000
DTEND;TZID=Europe/Dublin:20250328T103000
DTSTAMP:20260420T141737
CREATED:20250303T155039Z
LAST-MODIFIED:20250305T125152Z
UID:10000122-1743154200-1743157800@capnetworkireland.eu
SUMMARY:Signpost Series Webinar: Action Now for Curlews Tomorrow
DESCRIPTION:This webinar as part of The Signpost Series will focus on Action Now for Curlews Tomorrow. It will feature guest speaker Flo Blackbourn\, Manager\, Curlew Action UK.
URL:https://capnetworkireland.eu/event/signpost-series-webinar-action-now-for-curlews-tomorrow/
LOCATION:Online
CATEGORIES:General Events
END:VEVENT
BEGIN:VEVENT
DTSTART;TZID=Europe/Dublin:20250328T093000
DTEND;TZID=Europe/Dublin:20250328T103000
DTSTAMP:20260420T141737
CREATED:20250303T155039Z
LAST-MODIFIED:20250303T155039Z
UID:10000334-1743154200-1743157800@capnetworkireland.eu
SUMMARY:Signpost Series Webinar: Action Now for Curlews Tomorrow
DESCRIPTION:This webinar as part of The Signpost Series will focus on Action Now for Curlews Tomorrow. It will feature guest speaker Flo Blackbourn\, Manager\, Curlew Action UK.
URL:https://capnetworkireland.eu/event/signpost-series-webinar-action-now-for-curlews-tomorrow-2/
LOCATION:Online
CATEGORIES:General Events
END:VEVENT
BEGIN:VEVENT
DTSTART;TZID=Europe/Dublin:20250327T100000
DTEND;TZID=Europe/Dublin:20250327T123000
DTSTAMP:20260420T141737
CREATED:20250304T180350Z
LAST-MODIFIED:20250306T121418Z
UID:10000126-1743069600-1743078600@capnetworkireland.eu
SUMMARY:FLIARA - Empowering Rural Communities: Gender Equality and Innovation in Action
DESCRIPTION:The FLIARA project invites you to an inspiring event that explores the intersection of gender equality\, rural development\, and innovation. This event will bring together leading researchers\, policymakers\, and entrepreneurs to discuss key challenges and opportunities for women-led initiatives in agriculture and rural areas.
URL:https://capnetworkireland.eu/event/empowering-rural-communities-gender-equality-and-innovation-in-action/
LOCATION:Online
CATEGORIES:International Events
END:VEVENT
BEGIN:VEVENT
DTSTART;TZID=Europe/Dublin:20250327T100000
DTEND;TZID=Europe/Dublin:20250327T123000
DTSTAMP:20260420T141737
CREATED:20250304T180350Z
LAST-MODIFIED:20250304T180350Z
UID:10000338-1743069600-1743078600@capnetworkireland.eu
SUMMARY:FLIARA - Empowering Rural Communities: Gender Equality and Innovation in Action
DESCRIPTION:The FLIARA project invites you to an inspiring event that explores the intersection of gender equality\, rural development\, and innovation. This event will bring together leading researchers\, policymakers\, and entrepreneurs to discuss key challenges and opportunities for women-led initiatives in agriculture and rural areas.
URL:https://capnetworkireland.eu/event/empowering-rural-communities-gender-equality-and-innovation-in-action-2/
LOCATION:Online
CATEGORIES:International Events
END:VEVENT
BEGIN:VEVENT
DTSTART;TZID=Europe/Dublin:20250326T130000
DTEND;TZID=Europe/Dublin:20250326T143000
DTSTAMP:20260420T141737
CREATED:20250328T100529Z
LAST-MODIFIED:20250328T101347Z
UID:10000166-1742994000-1742999400@capnetworkireland.eu
SUMMARY:EU CAP Network's Thematic Group Meeting on Valuing Farmers’ Wider Contributions to Society
DESCRIPTION:The focus of this online meeting will be on Strengthening the Connection of Farmers with Society.
URL:https://capnetworkireland.eu/event/2nd-thematic-group-meeting-on-valuing-farmers-wider-contributions-to-society/
LOCATION:Online
CATEGORIES:International Events
END:VEVENT
BEGIN:VEVENT
DTSTART;TZID=Europe/Dublin:20250326T130000
DTEND;TZID=Europe/Dublin:20250326T143000
DTSTAMP:20260420T141737
CREATED:20250328T100529Z
LAST-MODIFIED:20250328T100529Z
UID:10000378-1742994000-1742999400@capnetworkireland.eu
SUMMARY:EU CAP Network's Thematic Group Meeting on Valuing Farmers' Wider Contributions to Society
DESCRIPTION:The focus of this online meeting will be on Strengthening the Connection of Farmers with Society.
URL:https://capnetworkireland.eu/event/2nd-thematic-group-meeting-on-valuing-farmers-wider-contributions-to-society-2/
LOCATION:Online
CATEGORIES:International Events
END:VEVENT
BEGIN:VEVENT
DTSTART;TZID=Europe/Dublin:20250325T200000
DTEND;TZID=Europe/Dublin:20250325T200000
DTSTAMP:20260420T141737
CREATED:20250324T232702Z
LAST-MODIFIED:20250324T232907Z
UID:10000163-1742932800-1742932800@capnetworkireland.eu
SUMMARY:Future Beef Webinar: Breeding the Ideal Cow
DESCRIPTION:The webinar\, which will be chaired by Dr. Peter Doyle\, Teagasc Grange\, will cover topics such as what is the ideal cow\, bull selection\, improving herd genetics\, and understanding the role of myostatin genes in cattle breeding. \nWhat You’ll Learn \n\nWhat is the Ideal Cow? – How to use genetic traits to breed the perfect cow for your system\nBull Selection – What matters most for your farm: Milk production\, carcass quality\, or conformation?\nExpert Discussion – Rosalish Goulding\, Chris Daly (ICBF)\, and Ger McSweeney (Future Beef Farmer\, Cork) share insights on improving herd genetics\nMyostatin Genes – Understanding their role in cattle breeding:\n\nWhat are myostatin genes?\nHow to identify them in your cows or bulls\nUsing them to enhance herd performance while avoiding pitfalls\nInsights from Dr. Cliona Ryan\, Geneticist\, Teagasc
URL:https://capnetworkireland.eu/event/future-beef-webinar-breeding-the-ideal-cow/
LOCATION:Online
CATEGORIES:General Events
END:VEVENT
BEGIN:VEVENT
DTSTART;TZID=Europe/Dublin:20250325T200000
DTEND;TZID=Europe/Dublin:20250325T200000
DTSTAMP:20260420T141737
CREATED:20250324T232702Z
LAST-MODIFIED:20250324T232702Z
UID:10000375-1742932800-1742932800@capnetworkireland.eu
SUMMARY:Future Beef Webinar: Breeding the Ideal Cow
DESCRIPTION:The webinar\, which will be chaired by Dr. Peter Doyle\, Teagasc Grange\, will cover topics such as what is the ideal cow\, bull selection\, improving herd genetics\, and understanding the role of myostatin genes in cattle breeding. \nWhat You’ll Learn \n\nWhat is the Ideal Cow? ““ How to use genetic traits to breed the perfect cow for your system\nBull Selection ““ What matters most for your farm: Milk production\, carcass quality\, or conformation?\nExpert Discussion ““ Rosalish Goulding\, Chris Daly (ICBF)\, and Ger McSweeney (Future Beef Farmer\, Cork) share insights on improving herd genetics\nMyostatin Genes ““ Understanding their role in cattle breeding:\n\nWhat are myostatin genes?\nHow to identify them in your cows or bulls\nUsing them to enhance herd performance while avoiding pitfalls\nInsights from Dr. Cliona Ryan\, Geneticist\, Teagasc
URL:https://capnetworkireland.eu/event/future-beef-webinar-breeding-the-ideal-cow-2/
LOCATION:Online
CATEGORIES:General Events
END:VEVENT
BEGIN:VEVENT
DTSTART;TZID=Europe/Dublin:20250324T090000
DTEND;TZID=Europe/Dublin:20250324T113000
DTSTAMP:20260420T141737
CREATED:20250328T104508Z
LAST-MODIFIED:20250331T091454Z
UID:10000170-1742806800-1742815800@capnetworkireland.eu
SUMMARY:Grass Ceiling Workshop on 'Public Policy Initiatives Supporting Rural Women and Farmers'
DESCRIPTION:European Policy Forum\, hosted by GRASS Ceiling\, on 24 March.
URL:https://capnetworkireland.eu/event/grass-ceiling-workshop-on-public-policy-initiatives-supporting-rural-women-and-farmers/
LOCATION:Online
CATEGORIES:International Events
END:VEVENT
BEGIN:VEVENT
DTSTART;TZID=Europe/Dublin:20250324T090000
DTEND;TZID=Europe/Dublin:20250324T113000
DTSTAMP:20260420T141737
CREATED:20250328T104508Z
LAST-MODIFIED:20250328T104508Z
UID:10000382-1742806800-1742815800@capnetworkireland.eu
SUMMARY:Grass Ceiling Workshop on 'Public Policy Initiatives Supporting Rural Women and Farmers'
DESCRIPTION:European Policy Forum\, hosted by GRASS Ceiling\, on 24 March.
URL:https://capnetworkireland.eu/event/grass-ceiling-workshop-on-public-policy-initiatives-supporting-rural-women-and-farmers-2/
LOCATION:Online
CATEGORIES:International Events
END:VEVENT
BEGIN:VEVENT
DTSTART;TZID=Europe/Dublin:20250321T093000
DTEND;TZID=Europe/Dublin:20250321T103000
DTSTAMP:20260420T141737
CREATED:20250303T154552Z
LAST-MODIFIED:20250304T171224Z
UID:10000121-1742549400-1742553000@capnetworkireland.eu
SUMMARY:Signpost Series Webinar: Ireland's Hidden Peatlands
DESCRIPTION:This webinar as part of The Signpost Series will focus on Ireland’s Hidden Peatlands. It will feature guest speaker John Connolly\, Trinity College Dublin.
URL:https://capnetworkireland.eu/event/signpost-series-webinar-irelands-hidden-peatlands/
LOCATION:Online
CATEGORIES:General Events
END:VEVENT
BEGIN:VEVENT
DTSTART;TZID=Europe/Dublin:20250321T093000
DTEND;TZID=Europe/Dublin:20250321T103000
DTSTAMP:20260420T141737
CREATED:20250303T154552Z
LAST-MODIFIED:20250303T154552Z
UID:10000333-1742549400-1742553000@capnetworkireland.eu
SUMMARY:Signpost Series Webinar: Ireland's Hidden Peatlands
DESCRIPTION:This webinar as part of The Signpost Series will focus on Ireland’s Hidden Peatlands. It will feature guest speaker John Connolly\, Trinity College Dublin.
URL:https://capnetworkireland.eu/event/signpost-series-webinar-irelands-hidden-peatlands-2/
LOCATION:Online
CATEGORIES:General Events
END:VEVENT
BEGIN:VEVENT
DTSTART;TZID=Europe/Dublin:20250319T090000
DTEND;TZID=Europe/Dublin:20250319T103000
DTSTAMP:20260420T141737
CREATED:20250306T173728Z
LAST-MODIFIED:20250306T173728Z
UID:10000343-1742374800-1742380200@capnetworkireland.eu
SUMMARY:AKIS in action: Fostering knowledge flows and innovation - Aligning research with practice needs
DESCRIPTION:Part of the WoW series (Webinars on Wednesdays)\, hosted by modernAKIS and ATTRACTISS.\n\n\n\nThe event will explore how research can achieve real-world impact through multi-actor and co-creation approaches\, bridging science\, and practice. It will also address the challenges researchers face in initiating co-creation and fostering interdisciplinary collaboration.\n\n\n\nThis event is divided into two parts. The first session on March 19\, 2025\, will highlight key multi-actor concepts and strategies\, including Thematic Networks and EIP-AGRI Operational Groups within agricultural knowledge and innovation systems. These approaches demonstrate how collaboration\, knowledge sharing\, and the practical application of innovative solutions can enhance the impact of research in agriculture.\n\n\n\nTarget audience – Advisors\, innovation support services\, and other providers of specialized services\, AKIS coordination bodies\, Networks (CAP network or other)\, Managing authorities and Public authorities.
URL:https://capnetworkireland.eu/event/akis-in-action-fostering-knowledge-flows-and-innovation-aligning-research-with-practice-needs-2/
LOCATION:Online
CATEGORIES:International Events
END:VEVENT
BEGIN:VEVENT
DTSTART;TZID=Europe/Dublin:20250319T090000
DTEND;TZID=Europe/Dublin:20250319T103000
DTSTAMP:20260420T141737
CREATED:20250306T173728Z
LAST-MODIFIED:20250306T173728Z
UID:10000131-1742374800-1742380200@capnetworkireland.eu
SUMMARY:AKIS in action: Fostering knowledge flows and innovation - Aligning research with practice needs
DESCRIPTION:Part of the WoW series (Webinars on Wednesdays)\, hosted by modernAKIS and ATTRACTISS.\n\n\n\nThe event will explore how research can achieve real-world impact through multi-actor and co-creation approaches\, bridging science\, and practice. It will also address the challenges researchers face in initiating co-creation and fostering interdisciplinary collaboration.\n\n\n\nThis event is divided into two parts. The first session on March 19\, 2025\, will highlight key multi-actor concepts and strategies\, including Thematic Networks and EIP-AGRI Operational Groups within agricultural knowledge and innovation systems. These approaches demonstrate how collaboration\, knowledge sharing\, and the practical application of innovative solutions can enhance the impact of research in agriculture.\n\n\n\nTarget audience – Advisors\, innovation support services\, and other providers of specialized services\, AKIS coordination bodies\, Networks (CAP network or other)\, Managing authorities and Public authorities.
URL:https://capnetworkireland.eu/event/akis-in-action-fostering-knowledge-flows-and-innovation-aligning-research-with-practice-needs/
LOCATION:Online
CATEGORIES:International Events
END:VEVENT
BEGIN:VEVENT
DTSTART;TZID=Europe/Dublin:20250318T080000
DTEND;TZID=Europe/Dublin:20250318T110000
DTSTAMP:20260420T141737
CREATED:20250307T111305Z
LAST-MODIFIED:20250307T111305Z
UID:10000132-1742284800-1742295600@capnetworkireland.eu
SUMMARY:Network to Innovate – Beyond EIP: Challenges and Opportunities
DESCRIPTION:The online workshop ‘Beyond EIP: Challenges and Opportunities’ will take place on March 18\, 2025. This is organised by the Rural Networks of Estonia\, Finland\, Latvia\, and Poland and will provide an opportunity to connect with others in the field\, share knowledge\, and potentially create new partnerships.\n\nThis workshop will focus on EIP operational groups from the Nordic-Baltic region that were nominated for the EIP-AGRI Innovation Awards 2024 and who have already completed their project activities. It will explore what happens to innovations after the project concludes\, including the challenges and obstacles the partnerships face\, any additional resources that may be needed\, and the opportunities that have arisen.
URL:https://capnetworkireland.eu/event/network-to-innovate-beyond-eip-challenges-and-opportunities/
LOCATION:Online
CATEGORIES:International Events
END:VEVENT
BEGIN:VEVENT
DTSTART;TZID=Europe/Dublin:20250318T080000
DTEND;TZID=Europe/Dublin:20250318T110000
DTSTAMP:20260420T141737
CREATED:20250307T111305Z
LAST-MODIFIED:20250307T111305Z
UID:10000344-1742284800-1742295600@capnetworkireland.eu
SUMMARY:Network to Innovate "“ Beyond EIP: Challenges and Opportunities
DESCRIPTION:The online workshop ‘Beyond EIP: Challenges and Opportunities’ will take place on March 18\, 2025. This is organised by the Rural Networks of Estonia\, Finland\, Latvia\, and Poland and will provide an opportunity to connect with others in the field\, share knowledge\, and potentially create new partnerships.\n\nThis workshop will focus on EIP operational groups from the Nordic-Baltic region that were nominated for the EIP-AGRI Innovation Awards 2024 and who have already completed their project activities. It will explore what happens to innovations after the project concludes\, including the challenges and obstacles the partnerships face\, any additional resources that may be needed\, and the opportunities that have arisen.
URL:https://capnetworkireland.eu/event/network-to-innovate-beyond-eip-challenges-and-opportunities-2/
LOCATION:Online
CATEGORIES:International Events
END:VEVENT
BEGIN:VEVENT
DTSTART;TZID=Europe/Dublin:20250314T093000
DTEND;TZID=Europe/Dublin:20250314T103000
DTSTAMP:20260420T141737
CREATED:20250303T153957Z
LAST-MODIFIED:20250304T170905Z
UID:10000120-1741944600-1741948200@capnetworkireland.eu
SUMMARY:Signpost Series Webinar: Encouraging Irish Butterflies on Farmland
DESCRIPTION:This webinar as part of The Signpost Series will focus on Encouraging Irish Butterflies on Farmland. \nJesmond Harding\, Conservation Officer\, Butterfly Conservation Ireland will join the webinar to discuss the topic.
URL:https://capnetworkireland.eu/event/signpost-series-webinar-encouraging-irish-butterflies-on-farmland/
LOCATION:Online
CATEGORIES:General Events
END:VEVENT
BEGIN:VEVENT
DTSTART;TZID=Europe/Dublin:20250314T093000
DTEND;TZID=Europe/Dublin:20250314T103000
DTSTAMP:20260420T141737
CREATED:20250303T153957Z
LAST-MODIFIED:20250303T153957Z
UID:10000332-1741944600-1741948200@capnetworkireland.eu
SUMMARY:Signpost Series Webinar: Encouraging Irish Butterflies on Farmland
DESCRIPTION:This webinar as part of The Signpost Series will focus on Encouraging Irish Butterflies on Farmland. \nJesmond Harding\, Conservation Officer\, Butterfly Conservation Ireland will join the webinar to discuss the topic.
URL:https://capnetworkireland.eu/event/signpost-series-webinar-encouraging-irish-butterflies-on-farmland-2/
LOCATION:Online
CATEGORIES:General Events
END:VEVENT
BEGIN:VEVENT
DTSTART;TZID=Europe/Dublin:20250313T150000
DTEND;TZID=Europe/Dublin:20250313T163000
DTSTAMP:20260420T141737
CREATED:20250220T164717Z
LAST-MODIFIED:20250306T121504Z
UID:10000112-1741878000-1741883400@capnetworkireland.eu
SUMMARY:Online Webinar on Culture and Well-being in Rural Communities
DESCRIPTION:This event will feature expert speakers who will discuss youth mental health\, digital solutions\, and culture\, as well as interactive discussions and networking opportunities.\n\nSpeakers:\n• Veronika Rašić MD\, MRCGP – Mental Health of Young People in the Community\n• Davor Moravek MSc. Psychiatrist – Bridging the Rural Divide in Croatia: Telehealth & Adolescent Mental Health and Wellbeing
URL:https://capnetworkireland.eu/event/online-webinar-on-culture-and-well-being-in-rural-communities/
LOCATION:Online
CATEGORIES:International Events
END:VEVENT
BEGIN:VEVENT
DTSTART;TZID=Europe/Dublin:20250313T150000
DTEND;TZID=Europe/Dublin:20250313T163000
DTSTAMP:20260420T141737
CREATED:20250220T164717Z
LAST-MODIFIED:20250220T164717Z
UID:10000325-1741878000-1741883400@capnetworkireland.eu
SUMMARY:Online Webinar on Culture and Well-being in Rural Communities
DESCRIPTION:This event will feature expert speakers who will discuss youth mental health\, digital solutions\, and culture\, as well as interactive discussions and networking opportunities.\n\nSpeakers:\n“¢ Veronika RaÅ¡iÄ‡ MD\, MRCGP ““ Mental Health of Young People in the Community\n“¢ Davor Moravek MSc. Psychiatrist ““ Bridging the Rural Divide in Croatia: Telehealth & Adolescent Mental Health and Wellbeing
URL:https://capnetworkireland.eu/event/online-webinar-on-culture-and-well-being-in-rural-communities-2/
LOCATION:Online
CATEGORIES:International Events
END:VEVENT
BEGIN:VEVENT
DTSTART;TZID=Europe/Dublin:20250307T093000
DTEND;TZID=Europe/Dublin:20250307T103000
DTSTAMP:20260420T141737
CREATED:20250303T153823Z
LAST-MODIFIED:20250304T171427Z
UID:10000119-1741339800-1741343400@capnetworkireland.eu
SUMMARY:Signpost Series Webinar: Inspiring People about the Biodiversity around us
DESCRIPTION:This webinar as part of The Signpost Series will focus on Inspiring People about the Biodiversity around us. The webinar will feature guest speaker Calvin Jones\, Founder\, Editor and Wildlife Guide\, from Ireland’s Wildlife.
URL:https://capnetworkireland.eu/event/signpost-series-webinar-inspiring-people-about-the-biodiversity-around-us/
LOCATION:Online
CATEGORIES:General Events
END:VEVENT
BEGIN:VEVENT
DTSTART;TZID=Europe/Dublin:20250307T093000
DTEND;TZID=Europe/Dublin:20250307T103000
DTSTAMP:20260420T141737
CREATED:20250303T153823Z
LAST-MODIFIED:20250303T153823Z
UID:10000331-1741339800-1741343400@capnetworkireland.eu
SUMMARY:Signpost Series Webinar: Inspiring People about the Biodiversity around us
DESCRIPTION:This webinar as part of The Signpost Series will focus on Inspiring People about the Biodiversity around us. The webinar will feature guest speaker Calvin Jones\, Founder\, Editor and Wildlife Guide\, from Ireland’s Wildlife.
URL:https://capnetworkireland.eu/event/signpost-series-webinar-inspiring-people-about-the-biodiversity-around-us-2/
LOCATION:Online
CATEGORIES:General Events
END:VEVENT
BEGIN:VEVENT
DTSTART;TZID=Europe/Dublin:20250228T093000
DTEND;TZID=Europe/Dublin:20250228T103000
DTSTAMP:20260420T141737
CREATED:20250213T162825Z
LAST-MODIFIED:20250213T162825Z
UID:10000100-1740735000-1740738600@capnetworkireland.eu
SUMMARY:Signpost Series Webinar: Farm PEAT EIP - Overview and Key Learnings
DESCRIPTION:This webinar as part of The Signpost Series will focus on Farm PEAT EIP – Overview and Key Learnings. \nIt will feature guest speaker Caroline Lalor\, Farm PEAT Project Manager.
URL:https://capnetworkireland.eu/event/signpost-series-webinar-farm-peat-eip-overview-and-key-learnings/
LOCATION:Online
CATEGORIES:General Events
END:VEVENT
BEGIN:VEVENT
DTSTART;TZID=Europe/Dublin:20250228T093000
DTEND;TZID=Europe/Dublin:20250228T103000
DTSTAMP:20260420T141737
CREATED:20250213T162825Z
LAST-MODIFIED:20250213T162825Z
UID:10000313-1740735000-1740738600@capnetworkireland.eu
SUMMARY:Signpost Series Webinar: Farm PEAT EIP - Overview and Key Learnings
DESCRIPTION:This webinar as part of The Signpost Series will focus on Farm PEAT EIP – Overview and Key Learnings. \nIt will feature guest speaker Caroline Lalor\, Farm PEAT Project Manager.
URL:https://capnetworkireland.eu/event/signpost-series-webinar-farm-peat-eip-overview-and-key-learnings-2/
LOCATION:Online
CATEGORIES:General Events
END:VEVENT
BEGIN:VEVENT
DTSTART;TZID=Europe/Dublin:20250226T150000
DTEND;TZID=Europe/Dublin:20250226T160000
DTSTAMP:20260420T141737
CREATED:20250220T164030Z
LAST-MODIFIED:20250220T164030Z
UID:10000324-1740582000-1740585600@capnetworkireland.eu
SUMMARY:"THINK SMART" - University of Galway Rural Voices Seminar Series
DESCRIPTION:The next session of the Rural Voices series will feature Aoife Noone\, founding Director and CEO of Noone Cyber Services based in Co. Galway who will present an overview of her company’s work in helping to safeguard and empower rural businesses and communities when online. She will explain the importance of good cyber hygiene habits when online today and explain cyber security in simple terms. Aoife will also provide an introduction to her award-winning “Think Smart”Programme and why she believes that having the right mix of Cyber and Mindset skills is now critical for rural businesses and communities in today’s fast-paced ever-changing online world. Aoife will also present some key actions and measures aimed at creating a safer digital world for employers\, teachers\, students\, parents and communities in rural areas.
URL:https://capnetworkireland.eu/event/think-smart-university-of-galway-rural-voices-seminar-series-2/
LOCATION:Online
CATEGORIES:General Events
END:VEVENT
BEGIN:VEVENT
DTSTART;TZID=Europe/Dublin:20250226T150000
DTEND;TZID=Europe/Dublin:20250226T160000
DTSTAMP:20260420T141737
CREATED:20250220T164030Z
LAST-MODIFIED:20250220T164030Z
UID:10000111-1740582000-1740585600@capnetworkireland.eu
SUMMARY:"THINK SMART" - University of Galway Rural Voices Seminar Series
DESCRIPTION:The next session of the Rural Voices series will feature Aoife Noone\, founding Director and CEO of Noone Cyber Services based in Co. Galway who will present an overview of her company’s work in helping to safeguard and empower rural businesses and communities when online. She will explain the importance of good cyber hygiene habits when online today and explain cyber security in simple terms. Aoife will also provide an introduction to her award-winning “Think Smart” Programme and why she believes that having the right mix of Cyber and Mindset skills is now critical for rural businesses and communities in today’s fast-paced ever-changing online world. Aoife will also present some key actions and measures aimed at creating a safer digital world for employers\, teachers\, students\, parents and communities in rural areas.
URL:https://capnetworkireland.eu/event/think-smart-university-of-galway-rural-voices-seminar-series/
LOCATION:Online
CATEGORIES:General Events
END:VEVENT
BEGIN:VEVENT
DTSTART;TZID=Europe/Dublin:20250226T090000
DTEND;TZID=Europe/Dublin:20250226T113000
DTSTAMP:20260420T141737
CREATED:20250213T152551Z
LAST-MODIFIED:20250213T152551Z
UID:10000098-1740560400-1740569400@capnetworkireland.eu
SUMMARY:Preparing multi-actor projects in a co-creative way for forthcoming Cluster 6 Horizon Europe calls
DESCRIPTION:Join the PREMIERE Brokerage Event to explore opportunities for preparing impactful multi-actor projects under Horizon Europe’s Cluster 6 calls (Food\, Bioeconomy\, Natural Resources\, Agriculture and Environment). This event is designed to provide participants with insights into the multi-actor approach\, showcase tools and support available through the PREMIERE project\, and facilitate networking to build strong consortia.
URL:https://capnetworkireland.eu/event/preparing-multi-actor-projects-in-a-co-creative-way-for-forthcoming-cluster-6-horizon-europe-calls/
LOCATION:Online
CATEGORIES:International Events
END:VEVENT
BEGIN:VEVENT
DTSTART;TZID=Europe/Dublin:20250226T090000
DTEND;TZID=Europe/Dublin:20250226T113000
DTSTAMP:20260420T141737
CREATED:20250213T152551Z
LAST-MODIFIED:20250213T152551Z
UID:10000311-1740560400-1740569400@capnetworkireland.eu
SUMMARY:Preparing multi-actor projects in a co-creative way for forthcoming Cluster 6 Horizon Europe calls
DESCRIPTION:Join the PREMIERE Brokerage Event to explore opportunities for preparing impactful multi-actor projects under Horizon Europe’s Cluster 6 calls (Food\, Bioeconomy\, Natural Resources\, Agriculture and Environment). This event is designed to provide participants with insights into the multi-actor approach\, showcase tools and support available through the PREMIERE project\, and facilitate networking to build strong consortia.
URL:https://capnetworkireland.eu/event/preparing-multi-actor-projects-in-a-co-creative-way-for-forthcoming-cluster-6-horizon-europe-calls-2/
LOCATION:Online
CATEGORIES:International Events
END:VEVENT
BEGIN:VEVENT
DTSTART;TZID=Europe/Dublin:20250225T123000
DTEND;TZID=Europe/Dublin:20250225T133000
DTSTAMP:20260420T141737
CREATED:20250214T092815Z
LAST-MODIFIED:20250214T092815Z
UID:10000319-1740486600-1740490200@capnetworkireland.eu
SUMMARY:Let's Talk Organics - Markets for Organic Horticulture
DESCRIPTION:Join William Deasy\, Teagasc Specialised Vegetable Advisor\, along with the Teagasc Organic Specialists on Tuesday\, 25th February from 12:30pm – 1:30pm for an episode of Let’s Talk Organics.\n\nThe team will be joined by Emmet Doyle\, Organic Sector Manager & Conor Hogan\, Organic Executive\, Bord Bia and retail expert\, Ged Futter\, director at The Retail Mind in the UK and former supermarket senior buyer turned management consultant.\n\nEmmet Doyle and Conor Hogan will provide a market update and insights for Ireland’s organic fresh produce (fruit and vegetables) market.\n\nGed Futter will provide expert insights and tips for fresh produce growers doing business with supermarket buyers.
URL:https://capnetworkireland.eu/event/lets-talk-organics-markets-for-organic-horticulture-2/
LOCATION:Online
CATEGORIES:General Events
END:VEVENT
BEGIN:VEVENT
DTSTART;TZID=Europe/Dublin:20250225T123000
DTEND;TZID=Europe/Dublin:20250225T133000
DTSTAMP:20260420T141737
CREATED:20250214T092815Z
LAST-MODIFIED:20250214T092815Z
UID:10000106-1740486600-1740490200@capnetworkireland.eu
SUMMARY:Let's Talk Organics - Markets for Organic Horticulture
DESCRIPTION:Join William Deasy\, Teagasc Specialised Vegetable Advisor\, along with the Teagasc Organic Specialists on Tuesday\, 25th February from 12:30pm – 1:30pm for an episode of Let’s Talk Organics.\n\nThe team will be joined by Emmet Doyle\, Organic Sector Manager & Conor Hogan\, Organic Executive\, Bord Bia and retail expert\, Ged Futter\, director at The Retail Mind in the UK and former supermarket senior buyer turned management consultant.\n\nEmmet Doyle and Conor Hogan will provide a market update and insights for Ireland’s organic fresh produce (fruit and vegetables) market.\n\nGed Futter will provide expert insights and tips for fresh produce growers doing business with supermarket buyers.
URL:https://capnetworkireland.eu/event/lets-talk-organics-markets-for-organic-horticulture/
LOCATION:Online
CATEGORIES:General Events
END:VEVENT
END:VCALENDAR