
BEGIN:VCALENDAR
VERSION:2.0
PRODID:-//CAP Network Ireland - ECPv6.15.20//NONSGML v1.0//EN
CALSCALE:GREGORIAN
METHOD:PUBLISH
X-ORIGINAL-URL:https://capnetworkireland.eu
X-WR-CALDESC:Events for CAP Network Ireland
REFRESH-INTERVAL;VALUE=DURATION:PT1H
X-Robots-Tag:noindex
X-PUBLISHED-TTL:PT1H
BEGIN:VTIMEZONE
TZID:Europe/Dublin
BEGIN:STANDARD
TZOFFSETFROM:+0000
TZOFFSETTO:+0100
TZNAME:IST
DTSTART:20230326T010000
END:STANDARD
BEGIN:DAYLIGHT
TZOFFSETFROM:+0100
TZOFFSETTO:+0000
TZNAME:GMT
DTSTART:20231029T010000
END:DAYLIGHT
BEGIN:STANDARD
TZOFFSETFROM:+0000
TZOFFSETTO:+0100
TZNAME:IST
DTSTART:20240331T010000
END:STANDARD
BEGIN:DAYLIGHT
TZOFFSETFROM:+0100
TZOFFSETTO:+0000
TZNAME:GMT
DTSTART:20241027T010000
END:DAYLIGHT
BEGIN:STANDARD
TZOFFSETFROM:+0000
TZOFFSETTO:+0100
TZNAME:IST
DTSTART:20250330T010000
END:STANDARD
BEGIN:DAYLIGHT
TZOFFSETFROM:+0100
TZOFFSETTO:+0000
TZNAME:GMT
DTSTART:20251026T010000
END:DAYLIGHT
BEGIN:STANDARD
TZOFFSETFROM:+0000
TZOFFSETTO:+0100
TZNAME:IST
DTSTART:20260329T010000
END:STANDARD
BEGIN:DAYLIGHT
TZOFFSETFROM:+0100
TZOFFSETTO:+0000
TZNAME:GMT
DTSTART:20261025T010000
END:DAYLIGHT
END:VTIMEZONE
BEGIN:VEVENT
DTSTART;TZID=Europe/Dublin:20250226T150000
DTEND;TZID=Europe/Dublin:20250226T160000
DTSTAMP:20260420T172559
CREATED:20250220T164030Z
LAST-MODIFIED:20250220T164030Z
UID:10000111-1740582000-1740585600@capnetworkireland.eu
SUMMARY:"THINK SMART" - University of Galway Rural Voices Seminar Series
DESCRIPTION:The next session of the Rural Voices series will feature Aoife Noone\, founding Director and CEO of Noone Cyber Services based in Co. Galway who will present an overview of her company’s work in helping to safeguard and empower rural businesses and communities when online. She will explain the importance of good cyber hygiene habits when online today and explain cyber security in simple terms. Aoife will also provide an introduction to her award-winning “Think Smart” Programme and why she believes that having the right mix of Cyber and Mindset skills is now critical for rural businesses and communities in today’s fast-paced ever-changing online world. Aoife will also present some key actions and measures aimed at creating a safer digital world for employers\, teachers\, students\, parents and communities in rural areas.
URL:https://capnetworkireland.eu/event/think-smart-university-of-galway-rural-voices-seminar-series/
LOCATION:Online
CATEGORIES:General Events
END:VEVENT
BEGIN:VEVENT
DTSTART;TZID=Europe/Dublin:20250226T150000
DTEND;TZID=Europe/Dublin:20250226T160000
DTSTAMP:20260420T172559
CREATED:20250220T164030Z
LAST-MODIFIED:20250220T164030Z
UID:10000324-1740582000-1740585600@capnetworkireland.eu
SUMMARY:"THINK SMART" - University of Galway Rural Voices Seminar Series
DESCRIPTION:The next session of the Rural Voices series will feature Aoife Noone\, founding Director and CEO of Noone Cyber Services based in Co. Galway who will present an overview of her company’s work in helping to safeguard and empower rural businesses and communities when online. She will explain the importance of good cyber hygiene habits when online today and explain cyber security in simple terms. Aoife will also provide an introduction to her award-winning “Think Smart”Programme and why she believes that having the right mix of Cyber and Mindset skills is now critical for rural businesses and communities in today’s fast-paced ever-changing online world. Aoife will also present some key actions and measures aimed at creating a safer digital world for employers\, teachers\, students\, parents and communities in rural areas.
URL:https://capnetworkireland.eu/event/think-smart-university-of-galway-rural-voices-seminar-series-2/
LOCATION:Online
CATEGORIES:General Events
END:VEVENT
BEGIN:VEVENT
DTSTART;TZID=Europe/Dublin:20250226T090000
DTEND;TZID=Europe/Dublin:20250226T113000
DTSTAMP:20260420T172559
CREATED:20250213T152551Z
LAST-MODIFIED:20250213T152551Z
UID:10000098-1740560400-1740569400@capnetworkireland.eu
SUMMARY:Preparing multi-actor projects in a co-creative way for forthcoming Cluster 6 Horizon Europe calls
DESCRIPTION:Join the PREMIERE Brokerage Event to explore opportunities for preparing impactful multi-actor projects under Horizon Europe’s Cluster 6 calls (Food\, Bioeconomy\, Natural Resources\, Agriculture and Environment). This event is designed to provide participants with insights into the multi-actor approach\, showcase tools and support available through the PREMIERE project\, and facilitate networking to build strong consortia.
URL:https://capnetworkireland.eu/event/preparing-multi-actor-projects-in-a-co-creative-way-for-forthcoming-cluster-6-horizon-europe-calls/
LOCATION:Online
CATEGORIES:International Events
END:VEVENT
BEGIN:VEVENT
DTSTART;TZID=Europe/Dublin:20250226T090000
DTEND;TZID=Europe/Dublin:20250226T113000
DTSTAMP:20260420T172559
CREATED:20250213T152551Z
LAST-MODIFIED:20250213T152551Z
UID:10000311-1740560400-1740569400@capnetworkireland.eu
SUMMARY:Preparing multi-actor projects in a co-creative way for forthcoming Cluster 6 Horizon Europe calls
DESCRIPTION:Join the PREMIERE Brokerage Event to explore opportunities for preparing impactful multi-actor projects under Horizon Europe’s Cluster 6 calls (Food\, Bioeconomy\, Natural Resources\, Agriculture and Environment). This event is designed to provide participants with insights into the multi-actor approach\, showcase tools and support available through the PREMIERE project\, and facilitate networking to build strong consortia.
URL:https://capnetworkireland.eu/event/preparing-multi-actor-projects-in-a-co-creative-way-for-forthcoming-cluster-6-horizon-europe-calls-2/
LOCATION:Online
CATEGORIES:International Events
END:VEVENT
BEGIN:VEVENT
DTSTART;TZID=Europe/Dublin:20250225T123000
DTEND;TZID=Europe/Dublin:20250225T133000
DTSTAMP:20260420T172559
CREATED:20250214T092815Z
LAST-MODIFIED:20250214T092815Z
UID:10000106-1740486600-1740490200@capnetworkireland.eu
SUMMARY:Let's Talk Organics - Markets for Organic Horticulture
DESCRIPTION:Join William Deasy\, Teagasc Specialised Vegetable Advisor\, along with the Teagasc Organic Specialists on Tuesday\, 25th February from 12:30pm – 1:30pm for an episode of Let’s Talk Organics.\n\nThe team will be joined by Emmet Doyle\, Organic Sector Manager & Conor Hogan\, Organic Executive\, Bord Bia and retail expert\, Ged Futter\, director at The Retail Mind in the UK and former supermarket senior buyer turned management consultant.\n\nEmmet Doyle and Conor Hogan will provide a market update and insights for Ireland’s organic fresh produce (fruit and vegetables) market.\n\nGed Futter will provide expert insights and tips for fresh produce growers doing business with supermarket buyers.
URL:https://capnetworkireland.eu/event/lets-talk-organics-markets-for-organic-horticulture/
LOCATION:Online
CATEGORIES:General Events
END:VEVENT
BEGIN:VEVENT
DTSTART;TZID=Europe/Dublin:20250225T123000
DTEND;TZID=Europe/Dublin:20250225T133000
DTSTAMP:20260420T172559
CREATED:20250214T092815Z
LAST-MODIFIED:20250214T092815Z
UID:10000319-1740486600-1740490200@capnetworkireland.eu
SUMMARY:Let's Talk Organics - Markets for Organic Horticulture
DESCRIPTION:Join William Deasy\, Teagasc Specialised Vegetable Advisor\, along with the Teagasc Organic Specialists on Tuesday\, 25th February from 12:30pm – 1:30pm for an episode of Let’s Talk Organics.\n\nThe team will be joined by Emmet Doyle\, Organic Sector Manager & Conor Hogan\, Organic Executive\, Bord Bia and retail expert\, Ged Futter\, director at The Retail Mind in the UK and former supermarket senior buyer turned management consultant.\n\nEmmet Doyle and Conor Hogan will provide a market update and insights for Ireland’s organic fresh produce (fruit and vegetables) market.\n\nGed Futter will provide expert insights and tips for fresh produce growers doing business with supermarket buyers.
URL:https://capnetworkireland.eu/event/lets-talk-organics-markets-for-organic-horticulture-2/
LOCATION:Online
CATEGORIES:General Events
END:VEVENT
BEGIN:VEVENT
DTSTART;TZID=Europe/Dublin:20250122T080000
DTEND;TZID=Europe/Dublin:20250122T120000
DTSTAMP:20260420T172559
CREATED:20241220T121954Z
LAST-MODIFIED:20241220T123226Z
UID:10000084-1737532800-1737547200@capnetworkireland.eu
SUMMARY:1st meeting of the Thematic Group on the Economic Vulnerability of Farming
DESCRIPTION:The EU CAP Network\, with the support of the CAP Implementation Contact Point\, organises up to five Thematic Groups per year\, selecting members from a public expression of interest. \nThis will be the primary meeting of this particular Thematic Group and it will delve into the Economic Vulnerability of Farming in the EU. \nAims of the first TG meeting: \n\n\nDiscuss what we mean by the economic vulnerability of farming and identify the drivers of vulnerability.\nDiscuss how farm-based businesses are capitalising on the possibilities for overcoming the challenges associated with farming’s vulnerability.\nBegin to consider the effectiveness of current CAP interventions/frameworks to address economic vulnerabilities.
URL:https://capnetworkireland.eu/event/1st-meeting-of-the-thematic-group-on-the-economic-vulnerability-of-farming/
LOCATION:Online
CATEGORIES:International Events
END:VEVENT
BEGIN:VEVENT
DTSTART;TZID=Europe/Dublin:20250122T080000
DTEND;TZID=Europe/Dublin:20250122T120000
DTSTAMP:20260420T172559
CREATED:20241220T121954Z
LAST-MODIFIED:20241220T121954Z
UID:10000298-1737532800-1737547200@capnetworkireland.eu
SUMMARY:1st meeting of the Thematic Group on the Economic Vulnerability of Farming
DESCRIPTION:The EU CAP Network\, with the support of the”CAP Implementation Contact Point\, organises up to five Thematic Groups per year\, selecting members from a public expression of interest. \nThis will be the primary meeting of this particular Thematic Group and it will delve into the Economic Vulnerability of Farming in the EU. \nAims of the first TG meeting: \n\n\nDiscuss what we mean by the economic vulnerability of farming and identify the drivers of vulnerability.\nDiscuss how farm-based businesses are capitalising on the possibilities for overcoming the challenges associated with farming’s vulnerability.\nBegin to consider the effectiveness of current CAP interventions/frameworks to address economic vulnerabilities.
URL:https://capnetworkireland.eu/event/1st-meeting-of-the-thematic-group-on-the-economic-vulnerability-of-farming-2/
LOCATION:Online
CATEGORIES:International Events
END:VEVENT
BEGIN:VEVENT
DTSTART;TZID=Europe/Dublin:20250113T200000
DTEND;TZID=Europe/Dublin:20250113T200000
DTSTAMP:20260420T172559
CREATED:20241220T105132Z
LAST-MODIFIED:20241220T105132Z
UID:10000297-1736798400-1736798400@capnetworkireland.eu
SUMMARY:Teagasc Webinar on Fertiliser Planning and Water Quality Regulations
DESCRIPTION:The Teagasc Roscommon/Longford Advisory service are running a series of farming webinars. \nOn Monday\, 13th January\, the focus of the webinar will be on Fertiliser Planning and Water Quality Regulation. \nSpeakers \n\nBrian Daly\, Teagasc – Fertiliser Planning and Changes to Herd Numbers\nKieran Kenny\, Teagasc – Regulation for Water Quality\n\nThis is an opportunity for farmers to access the latest technical advice and updates on schemes relevant to the Roscommon and Longford region. Each webinar will last approximately one hour and is open to all farmers. Recordings will be available afterwards on the Teagasc Roscommon/Longford YouTube channel.
URL:https://capnetworkireland.eu/event/teagasc-webinar-on-fertiliser-planning-and-water-quality-regulations-2/
LOCATION:Online
CATEGORIES:General Events
END:VEVENT
BEGIN:VEVENT
DTSTART;TZID=Europe/Dublin:20250113T200000
DTEND;TZID=Europe/Dublin:20250113T200000
DTSTAMP:20260420T172559
CREATED:20241220T105132Z
LAST-MODIFIED:20241220T105132Z
UID:10000082-1736798400-1736798400@capnetworkireland.eu
SUMMARY:Teagasc Webinar on Fertiliser Planning and Water Quality Regulations
DESCRIPTION:The Teagasc Roscommon/Longford Advisory service are running a series of farming webinars. \nOn Monday\, 13th January\, the focus of the webinar will be on Fertiliser Planning and Water Quality Regulation. \nSpeakers \n\nBrian Daly\, Teagasc – Fertiliser Planning and Changes to Herd Numbers\nKieran Kenny\, Teagasc – Regulation for Water Quality\n\nThis is an opportunity for farmers to access the latest technical advice and updates on schemes relevant to the Roscommon and Longford region. Each webinar will last approximately one hour and is open to all farmers. Recordings will be available afterwards on the Teagasc Roscommon/Longford YouTube channel.
URL:https://capnetworkireland.eu/event/teagasc-webinar-on-fertiliser-planning-and-water-quality-regulations/
LOCATION:Online
CATEGORIES:General Events
END:VEVENT
BEGIN:VEVENT
DTSTART;TZID=Europe/Dublin:20241212T100000
DTEND;TZID=Europe/Dublin:20241212T130000
DTSTAMP:20260420T172559
CREATED:20241203T115300Z
LAST-MODIFIED:20241205T104845Z
UID:10000080-1733997600-1734008400@capnetworkireland.eu
SUMMARY:Caring for Soils: Insights from EU Mission Soil Projects on Measurement\, Monitoring\, and Management
DESCRIPTION:SOILL-Startup organises with other projects under the EU Mission ‘A Soil Deal for Europe’ the Webinar “Caring for Soils: Insights from EU Mission Soil Projects on Measurement\, Monitoring\, and Management”. The event spotlights innovative and current solutions for soil measuring\, monitoring\, and managing\, by showcasing efforts and contribution of the EU Mission Soil projects.
URL:https://capnetworkireland.eu/event/caring-for-soils-insights-from-eu-mission-soil-projects-on-measurement-monitoring-and-management/
LOCATION:Online
CATEGORIES:International Events
END:VEVENT
BEGIN:VEVENT
DTSTART;TZID=Europe/Dublin:20241212T100000
DTEND;TZID=Europe/Dublin:20241212T130000
DTSTAMP:20260420T172559
CREATED:20241203T115300Z
LAST-MODIFIED:20241203T115300Z
UID:10000295-1733997600-1734008400@capnetworkireland.eu
SUMMARY:Caring for Soils: Insights from EU Mission Soil Projects on Measurement\, Monitoring\, and Management
DESCRIPTION:SOILL-Startup organises with other projects under the EU Mission ‘A Soil Deal for Europe’ the Webinar “Caring for Soils: Insights from EU Mission Soil Projects on Measurement\, Monitoring\, and Management”. The event spotlights innovative and current solutions for soil measuring\, monitoring\, and managing\, by showcasing efforts and contribution of the EU Mission Soil projects.
URL:https://capnetworkireland.eu/event/caring-for-soils-insights-from-eu-mission-soil-projects-on-measurement-monitoring-and-management-2/
LOCATION:Online
CATEGORIES:International Events
END:VEVENT
BEGIN:VEVENT
DTSTART;TZID=Europe/Dublin:20241211T110000
DTEND;TZID=Europe/Dublin:20241211T123000
DTSTAMP:20260420T172559
CREATED:20241203T115038Z
LAST-MODIFIED:20241205T104804Z
UID:10000079-1733914800-1733920200@capnetworkireland.eu
SUMMARY:Looking into the 2024 Consumer Insights Report
DESCRIPTION:Join UK ORGANIC and Organic Research Centre for a deep dive into their 2024 Consumer Insights Report \nBased on the latest data from the UKO & ORC Consumer Insights Report 2024\, this session will examine where organic shoppers prefer to shop\, how they navigate their purchasing decisions\, and the key motivators driving their choices\, such as health\, sustainability\, and ethical considerations.
URL:https://capnetworkireland.eu/event/looking-into-the-2024-consumer-insights-report/
LOCATION:Online
CATEGORIES:International Events
END:VEVENT
BEGIN:VEVENT
DTSTART;TZID=Europe/Dublin:20241211T110000
DTEND;TZID=Europe/Dublin:20241211T123000
DTSTAMP:20260420T172559
CREATED:20241203T115038Z
LAST-MODIFIED:20241203T115038Z
UID:10000294-1733914800-1733920200@capnetworkireland.eu
SUMMARY:Looking into the 2024 Consumer Insights Report
DESCRIPTION:Join UK ORGANIC and Organic Research Centre for a deep dive into their 2024 Consumer Insights Report \nBased on the latest data from the UKO & ORC Consumer Insights Report 2024\, this session will examine where organic shoppers prefer to shop\, how they navigate their purchasing decisions\, and the key motivators driving their choices\, such as health\, sustainability\, and ethical considerations.
URL:https://capnetworkireland.eu/event/looking-into-the-2024-consumer-insights-report-2/
LOCATION:Online
CATEGORIES:International Events
END:VEVENT
BEGIN:VEVENT
DTSTART;TZID=Europe/Dublin:20241211T090000
DTEND;TZID=Europe/Dublin:20241211T100000
DTSTAMP:20260420T172559
CREATED:20241205T101749Z
LAST-MODIFIED:20241205T101749Z
UID:10000296-1733907600-1733911200@capnetworkireland.eu
SUMMARY:Preparing multi-actor projects in a co-creative way for Horizon Europe calls 2025
DESCRIPTION:PREMIERE Project invites you to their skills-building webinar series which are intended to promote a deeper understanding of the requirements for multi-actor call for proposals in Horizon Europe.\n\nThese applied practice-oriented webinars are a platform for speakers to present a range of topics and lessons learned by addressing the proposal co-development process behind an effective collaborative methodology for facing needs and challenges and to co-create innovative solutions.
URL:https://capnetworkireland.eu/event/preparing-multi-actor-projects-in-a-co-creative-way-for-horizon-europe-calls-2025-2/
LOCATION:Online
CATEGORIES:International Events
END:VEVENT
BEGIN:VEVENT
DTSTART;TZID=Europe/Dublin:20241211T090000
DTEND;TZID=Europe/Dublin:20241211T100000
DTSTAMP:20260420T172559
CREATED:20241205T101749Z
LAST-MODIFIED:20241210T112317Z
UID:10000081-1733907600-1733911200@capnetworkireland.eu
SUMMARY:Preparing multi-actor projects in a co-creative way for Horizon Europe calls 2025
DESCRIPTION:PREMIERE Project invites you to their skills-building webinar series which are intended to promote a deeper understanding of the requirements for multi-actor call for proposals in Horizon Europe.\n\nThese applied practice-oriented webinars are a platform for speakers to present a range of topics and lessons learned by addressing the proposal co-development process behind an effective collaborative methodology for facing needs and challenges and to co-create innovative solutions.
URL:https://capnetworkireland.eu/event/preparing-multi-actor-projects-in-a-co-creative-way-for-horizon-europe-calls-2025/
LOCATION:Online
CATEGORIES:International Events
END:VEVENT
BEGIN:VEVENT
DTSTART;TZID=Europe/Dublin:20241209T210000
DTEND;TZID=Europe/Dublin:20241209T210000
DTSTAMP:20260420T172559
CREATED:20241203T113352Z
LAST-MODIFIED:20241205T104459Z
UID:10000075-1733778000-1733778000@capnetworkireland.eu
SUMMARY:NZAGRC x Teagasc Webinar: The challenge of managing soil carbon on agricultural peatlands
DESCRIPTION:Join speakers Louis Schipper\, The University of Waikato\, New Zealand and Owen Fenton\, Teagasc as they discuss the latest research surrounding peatlands and greenhouse gases.
URL:https://capnetworkireland.eu/event/nzagrc-x-teagasc-webinar-the-challenge-of-managing-soil-carbon-on-agricultural-peatlands/
LOCATION:Online
CATEGORIES:General Events
END:VEVENT
BEGIN:VEVENT
DTSTART;TZID=Europe/Dublin:20241209T210000
DTEND;TZID=Europe/Dublin:20241209T210000
DTSTAMP:20260420T172559
CREATED:20241203T113352Z
LAST-MODIFIED:20241203T113352Z
UID:10000290-1733778000-1733778000@capnetworkireland.eu
SUMMARY:NZAGRC x Teagasc Webinar: The challenge of managing soil carbon on agricultural peatlands
DESCRIPTION:Join speakers Louis Schipper\, The University of Waikato\, New Zealand and Owen Fenton\, Teagasc as they discuss the latest research surrounding peatlands and greenhouse gases.
URL:https://capnetworkireland.eu/event/nzagrc-x-teagasc-webinar-the-challenge-of-managing-soil-carbon-on-agricultural-peatlands-2/
LOCATION:Online
CATEGORIES:General Events
END:VEVENT
BEGIN:VEVENT
DTSTART;TZID=Europe/Dublin:20241204T193000
DTEND;TZID=Europe/Dublin:20241204T210000
DTSTAMP:20260420T172559
CREATED:20241203T112252Z
LAST-MODIFIED:20241205T105331Z
UID:10000073-1733340600-1733346000@capnetworkireland.eu
SUMMARY:Let's Talk Organics - Markets for Organics
DESCRIPTION:The focus of this webinar will be on the market opportunities for Irish organic produce. The team will be joined by Emmet Doyle\, Organic Sector Manager\, Bord Bia and Anne Maher\, Managing Director of the Urban Coop.
URL:https://capnetworkireland.eu/event/lets-talk-organics-markets-for-organics/
LOCATION:Online
CATEGORIES:General Events
END:VEVENT
BEGIN:VEVENT
DTSTART;TZID=Europe/Dublin:20241204T193000
DTEND;TZID=Europe/Dublin:20241204T210000
DTSTAMP:20260420T172559
CREATED:20241203T112252Z
LAST-MODIFIED:20241203T112252Z
UID:10000288-1733340600-1733346000@capnetworkireland.eu
SUMMARY:Let's Talk Organics - Markets for Organics
DESCRIPTION:The focus of this webinar will be on the market opportunities for Irish organic produce. The team will be joined by Emmet Doyle\, Organic Sector Manager\, Bord Bia and Anne Maher\, Managing Director of the Urban Coop.
URL:https://capnetworkireland.eu/event/lets-talk-organics-markets-for-organics-2/
LOCATION:Online
CATEGORIES:General Events
END:VEVENT
BEGIN:VEVENT
DTSTART;TZID=Europe/Dublin:20241203T110000
DTEND;TZID=Europe/Dublin:20241203T113000
DTSTAMP:20260420T172559
CREATED:20241203T111308Z
LAST-MODIFIED:20241205T105400Z
UID:10000072-1733223600-1733225400@capnetworkireland.eu
SUMMARY:Contributing to EU-FarmBook for Beginners
DESCRIPTION:30 minute online training session where two collaborators will explain how to access the EU-FarmBook Platform\, what you’ll need and how to upload material.
URL:https://capnetworkireland.eu/event/contributing-to-eu-farmbook-for-beginners/
LOCATION:Online
CATEGORIES:General Events
END:VEVENT
BEGIN:VEVENT
DTSTART;TZID=Europe/Dublin:20241203T110000
DTEND;TZID=Europe/Dublin:20241203T113000
DTSTAMP:20260420T172559
CREATED:20241203T111308Z
LAST-MODIFIED:20241203T111308Z
UID:10000287-1733223600-1733225400@capnetworkireland.eu
SUMMARY:Contributing to EU-FarmBook for Beginners
DESCRIPTION:30 minute online training session where two collaborators will explain how to access the EU-FarmBook Platform\, what you’ll need and how to upload material.
URL:https://capnetworkireland.eu/event/contributing-to-eu-farmbook-for-beginners-2/
LOCATION:Online
CATEGORIES:General Events
END:VEVENT
BEGIN:VEVENT
DTSTART;TZID=Europe/Dublin:20241203T100000
DTEND;TZID=Europe/Dublin:20241203T104500
DTSTAMP:20260420T172559
CREATED:20241203T110711Z
LAST-MODIFIED:20241205T105455Z
UID:10000071-1733220000-1733222700@capnetworkireland.eu
SUMMARY:EU-FarmBook Tips & Tricks for Quality Contributions
DESCRIPTION:45 minute online training session on how to create and enhance high quality titles\, descriptions and keywords to be published on EU-FarmBook
URL:https://capnetworkireland.eu/event/eu-farmbook-tips-tricks-for-quality-contributions/
LOCATION:Online
CATEGORIES:General Events
END:VEVENT
BEGIN:VEVENT
DTSTART;TZID=Europe/Dublin:20241203T100000
DTEND;TZID=Europe/Dublin:20241203T104500
DTSTAMP:20260420T172559
CREATED:20241203T110711Z
LAST-MODIFIED:20241203T110711Z
UID:10000286-1733220000-1733222700@capnetworkireland.eu
SUMMARY:EU-FarmBook Tips & Tricks for Quality Contributions
DESCRIPTION:45 minute online training session on how to create and enhance high quality titles\, descriptions and keywords to be published on EU-FarmBook
URL:https://capnetworkireland.eu/event/eu-farmbook-tips-tricks-for-quality-contributions-2/
LOCATION:Online
CATEGORIES:General Events
END:VEVENT
BEGIN:VEVENT
DTSTART;TZID=Europe/Dublin:20241129T093000
DTEND;TZID=Europe/Dublin:20241129T170000
DTSTAMP:20260420T172559
CREATED:20241114T152006Z
LAST-MODIFIED:20241114T152006Z
UID:10000065-1732872600-1732899600@capnetworkireland.eu
SUMMARY:Teagasc Signpost Series Webinar: GEBTech Plus
DESCRIPTION:This webinar will focus on Green Energy Boosting Technology for Sustainable Pig Production
URL:https://capnetworkireland.eu/event/teagasc-signpost-series-webinar-gebtech-plus-2/
LOCATION:Online
CATEGORIES:General Events
END:VEVENT
BEGIN:VEVENT
DTSTART;TZID=Europe/Dublin:20241129T093000
DTEND;TZID=Europe/Dublin:20241129T170000
DTSTAMP:20260420T172559
CREATED:20241114T152006Z
LAST-MODIFIED:20241114T152006Z
UID:10000280-1732872600-1732899600@capnetworkireland.eu
SUMMARY:Teagasc Signpost Series Webinar: GEBTech Plus
DESCRIPTION:This webinar will focus on Green Energy Boosting Technology for Sustainable Pig Production
URL:https://capnetworkireland.eu/event/teagasc-signpost-series-webinar-gebtech-plus-2-2/
LOCATION:Online
CATEGORIES:General Events
END:VEVENT
BEGIN:VEVENT
DTSTART;VALUE=DATE:20241127
DTEND;VALUE=DATE:20241128
DTSTAMP:20260420T172559
CREATED:20241014T113958Z
LAST-MODIFIED:20241014T143358Z
UID:10000037-1732665600-1732751999@capnetworkireland.eu
SUMMARY:FiBL Open Day – Organic transformation of food systems
DESCRIPTION:In various sessions\, FiBL researchers and consultants from different countries will not only address the latest developments in organic research but also give practical advice and provide room for questions and discussion. \nThe sessions will be arranged within thematic clusters: \n\nSupporting policies for sustainable food and farming\nBuilding future proof farming systems\nAssessing environmental impact of the food system\nNew practices to improve animal husbandry\nSharing knowledge to enable the transition\nRevealing deeper insights of food and ecosystems\nData and digital solutions for sustainable farming\nStrengthening organic value chains\n\nJoin us and explore the diverse and excellent work the FiBL Group (FiBL Switzerland\, FiBL Germany\, FiBL Austria\, FiBL France\, the Hungarian ÖMKi and the Brussels based FiBL Europe) performs on both national and international level
URL:https://capnetworkireland.eu/event/fibl-open-day-organic-transformation-of-food-systems/
LOCATION:Online
CATEGORIES:General Events
END:VEVENT
BEGIN:VEVENT
DTSTART;VALUE=DATE:20241127
DTEND;VALUE=DATE:20241128
DTSTAMP:20260420T172559
CREATED:20241014T113958Z
LAST-MODIFIED:20241014T113958Z
UID:10000254-1732665600-1732751999@capnetworkireland.eu
SUMMARY:FiBL Open Day "“ Organic transformation of food systems
DESCRIPTION:In various sessions\, FiBL researchers and consultants from different countries will not only address the latest developments in organic research but also give practical advice and provide room for questions and discussion. \nThe sessions will be arranged within thematic clusters: \n\nSupporting policies for sustainable food and farming\nBuilding future proof farming systems\nAssessing environmental impact of the food system\nNew practices to improve animal husbandry\nSharing knowledge to enable the transition\nRevealing deeper insights of food and ecosystems\nData and digital solutions for sustainable farming\nStrengthening organic value chains\n\nJoin us and explore the diverse and excellent work the FiBL Group (FiBL Switzerland\, FiBL Germany\, FiBL Austria\, FiBL France\, the Hungarian Á–MKi and the Brussels based FiBL Europe) performs on both national and international level
URL:https://capnetworkireland.eu/event/fibl-open-day-organic-transformation-of-food-systems-2/
LOCATION:Online
CATEGORIES:General Events
END:VEVENT
BEGIN:VEVENT
DTSTART;TZID=Europe/Dublin:20241122T093000
DTEND;TZID=Europe/Dublin:20241122T170000
DTSTAMP:20260420T172559
CREATED:20241114T145922Z
LAST-MODIFIED:20241114T150201Z
UID:10000063-1732267800-1732294800@capnetworkireland.eu
SUMMARY:Signpost Series Webinar: Agricultural Environmental Research in East China
DESCRIPTION:This is part of a weekly series of Environmental webinars run by Teagasc aimed at the Irish Ag industry. This webinar focuses on Agri Environmental research in China
URL:https://capnetworkireland.eu/event/signpost-series-webinar-agricultural-environmental-research-in-east-china-2/
LOCATION:Online
CATEGORIES:General Events
END:VEVENT
BEGIN:VEVENT
DTSTART;TZID=Europe/Dublin:20241122T093000
DTEND;TZID=Europe/Dublin:20241122T170000
DTSTAMP:20260420T172559
CREATED:20241114T145922Z
LAST-MODIFIED:20241114T145922Z
UID:10000279-1732267800-1732294800@capnetworkireland.eu
SUMMARY:Signpost Series Webinar: Agricultural Environmental Research in East China
DESCRIPTION:This is part of a weekly series of Environmental webinars run by Teagasc aimed at the Irish Ag industry. This webinar focuses on Agri Environmental research in China
URL:https://capnetworkireland.eu/event/signpost-series-webinar-agricultural-environmental-research-in-east-china-2-2/
LOCATION:Online
CATEGORIES:General Events
END:VEVENT
END:VCALENDAR