
BEGIN:VCALENDAR
VERSION:2.0
PRODID:-//CAP Network Ireland - ECPv6.15.20//NONSGML v1.0//EN
CALSCALE:GREGORIAN
METHOD:PUBLISH
X-ORIGINAL-URL:https://capnetworkireland.eu
X-WR-CALDESC:Events for CAP Network Ireland
REFRESH-INTERVAL;VALUE=DURATION:PT1H
X-Robots-Tag:noindex
X-PUBLISHED-TTL:PT1H
BEGIN:VTIMEZONE
TZID:Europe/Dublin
BEGIN:STANDARD
TZOFFSETFROM:+0000
TZOFFSETTO:+0100
TZNAME:IST
DTSTART:20250330T010000
END:STANDARD
BEGIN:DAYLIGHT
TZOFFSETFROM:+0100
TZOFFSETTO:+0000
TZNAME:GMT
DTSTART:20251026T010000
END:DAYLIGHT
BEGIN:STANDARD
TZOFFSETFROM:+0000
TZOFFSETTO:+0100
TZNAME:IST
DTSTART:20260329T010000
END:STANDARD
BEGIN:DAYLIGHT
TZOFFSETFROM:+0100
TZOFFSETTO:+0000
TZNAME:GMT
DTSTART:20261025T010000
END:DAYLIGHT
BEGIN:STANDARD
TZOFFSETFROM:+0000
TZOFFSETTO:+0100
TZNAME:IST
DTSTART:20270328T010000
END:STANDARD
BEGIN:DAYLIGHT
TZOFFSETFROM:+0100
TZOFFSETTO:+0000
TZNAME:GMT
DTSTART:20271031T010000
END:DAYLIGHT
END:VTIMEZONE
BEGIN:VEVENT
DTSTART;TZID=Europe/Dublin:20260512T080000
DTEND;TZID=Europe/Dublin:20260512T160000
DTSTAMP:20260420T123931
CREATED:20260330T212751Z
LAST-MODIFIED:20260330T212751Z
UID:10000578-1778572800-1778601600@capnetworkireland.eu
SUMMARY:EU CAP Network’s Steering Group - 6th Meeting
DESCRIPTION:The sixth meeting of the EU CAP Network’s Steering Group will take place on 12 May 2026 in Brussels. \n\n\n\n\n\n\n\nThe Steering Group is one of the main governance bodies of the European CAP Network alongside the Assembly. It follows up on the work of the EU CAP Network; in particular\, it ensures good coordination of the thematic work of the Network.
URL:https://capnetworkireland.eu/event/eu-cap-networks-steering-group-6th-meeting/
LOCATION:EU CAP Network premises – Brussels\, Belgium
CATEGORIES:International Events
END:VEVENT
END:VCALENDAR