
BEGIN:VCALENDAR
VERSION:2.0
PRODID:-//CAP Network Ireland - ECPv6.15.20//NONSGML v1.0//EN
CALSCALE:GREGORIAN
METHOD:PUBLISH
X-WR-CALNAME:CAP Network Ireland
X-ORIGINAL-URL:https://capnetworkireland.eu
X-WR-CALDESC:Events for CAP Network Ireland
REFRESH-INTERVAL;VALUE=DURATION:PT1H
X-Robots-Tag:noindex
X-PUBLISHED-TTL:PT1H
BEGIN:VTIMEZONE
TZID:Europe/Dublin
BEGIN:STANDARD
TZOFFSETFROM:+0000
TZOFFSETTO:+0100
TZNAME:IST
DTSTART:20240331T010000
END:STANDARD
BEGIN:DAYLIGHT
TZOFFSETFROM:+0100
TZOFFSETTO:+0000
TZNAME:GMT
DTSTART:20241027T010000
END:DAYLIGHT
BEGIN:STANDARD
TZOFFSETFROM:+0000
TZOFFSETTO:+0100
TZNAME:IST
DTSTART:20250330T010000
END:STANDARD
BEGIN:DAYLIGHT
TZOFFSETFROM:+0100
TZOFFSETTO:+0000
TZNAME:GMT
DTSTART:20251026T010000
END:DAYLIGHT
BEGIN:STANDARD
TZOFFSETFROM:+0000
TZOFFSETTO:+0100
TZNAME:IST
DTSTART:20260329T010000
END:STANDARD
BEGIN:DAYLIGHT
TZOFFSETFROM:+0100
TZOFFSETTO:+0000
TZNAME:GMT
DTSTART:20261025T010000
END:DAYLIGHT
END:VTIMEZONE
BEGIN:VEVENT
DTSTART;TZID=Europe/Dublin:20250430T150000
DTEND;TZID=Europe/Dublin:20250430T160000
DTSTAMP:20260420T141115
CREATED:20250414T142051Z
LAST-MODIFIED:20250414T142051Z
UID:10000190-1746025200-1746028800@capnetworkireland.eu
SUMMARY:PREMIERE Horizon Europe Project Presentation - University of Galway Rural Voices Seminar Series
DESCRIPTION:This month will feature Dr. Shane Conway\, Project Manager in the University of Galway’s Rural Studies Centre\, who will present an overview of his work on the PREMIERE (Preparing Multi-actor Projects in a Co-creative Way) Horizon Europe Project that the university is a partner in\, leading the project’s Communication\, Dissemination\, and Exploitation (C\, D&E) Work Package. Dr. Conway will introduce PREMIERE’s Multi-Actor Inclusion and Stakeholder Engagement Checklist during this online seminar\, a practical tool designed to support Horizon Europe Cluster 6 proposal writers in embedding the Multi-Actor Approach (MAA) in a meaningful and impactful way. With approximately 40% of Cluster 6 Horizon Europe calls covering Food\, Bioeconomy\, Natural Resources\, Agriculture and the Environment\, requiring MAA integration\, genuine engagement across policy\, research\, and practice is more important than ever.
URL:https://capnetworkireland.eu/event/premiere-horizon-europe-project-presentation-university-of-galway-rural-voices-seminar-series/
LOCATION:Online
CATEGORIES:General Events
END:VEVENT
BEGIN:VEVENT
DTSTART;TZID=Europe/Dublin:20250430T150000
DTEND;TZID=Europe/Dublin:20250430T160000
DTSTAMP:20260420T141115
CREATED:20250414T142051Z
LAST-MODIFIED:20250414T142051Z
UID:10000401-1746025200-1746028800@capnetworkireland.eu
SUMMARY:PREMIERE Horizon Europe Project Presentation - University of Galway Rural Voices Seminar Series
DESCRIPTION:This month will feature Dr. Shane Conway\, Project Manager in the University of Galway’s Rural Studies Centre\, who will present an overview of his work on the PREMIERE (Preparing Multi-actor Projects in a Co-creative Way) Horizon Europe Project that the university is a partner in\, leading the project’s Communication\, Dissemination\, and Exploitation (C\, D&E) Work Package. Dr. Conway will introduce PREMIERE’s Multi-Actor Inclusion and Stakeholder Engagement Checklist during this online seminar\, a practical tool designed to support Horizon Europe Cluster 6 proposal writers in embedding the Multi-Actor Approach (MAA) in a meaningful and impactful way. With approximately 40% of Cluster 6 Horizon Europe calls covering Food\, Bioeconomy\, Natural Resources\, Agriculture and the Environment\, requiring MAA integration\, genuine engagement across policy\, research\, and practice is more important than ever.
URL:https://capnetworkireland.eu/event/premiere-horizon-europe-project-presentation-university-of-galway-rural-voices-seminar-series-2/
LOCATION:Online
CATEGORIES:General Events
END:VEVENT
END:VCALENDAR