
BEGIN:VCALENDAR
VERSION:2.0
PRODID:-//CAP Network Ireland - ECPv6.15.20//NONSGML v1.0//EN
CALSCALE:GREGORIAN
METHOD:PUBLISH
X-WR-CALNAME:CAP Network Ireland
X-ORIGINAL-URL:https://capnetworkireland.eu
X-WR-CALDESC:Events for CAP Network Ireland
REFRESH-INTERVAL;VALUE=DURATION:PT1H
X-Robots-Tag:noindex
X-PUBLISHED-TTL:PT1H
BEGIN:VTIMEZONE
TZID:Europe/Dublin
BEGIN:STANDARD
TZOFFSETFROM:+0000
TZOFFSETTO:+0100
TZNAME:IST
DTSTART:20240331T010000
END:STANDARD
BEGIN:DAYLIGHT
TZOFFSETFROM:+0100
TZOFFSETTO:+0000
TZNAME:GMT
DTSTART:20241027T010000
END:DAYLIGHT
BEGIN:STANDARD
TZOFFSETFROM:+0000
TZOFFSETTO:+0100
TZNAME:IST
DTSTART:20250330T010000
END:STANDARD
BEGIN:DAYLIGHT
TZOFFSETFROM:+0100
TZOFFSETTO:+0000
TZNAME:GMT
DTSTART:20251026T010000
END:DAYLIGHT
BEGIN:STANDARD
TZOFFSETFROM:+0000
TZOFFSETTO:+0100
TZNAME:IST
DTSTART:20260329T010000
END:STANDARD
BEGIN:DAYLIGHT
TZOFFSETFROM:+0100
TZOFFSETTO:+0000
TZNAME:GMT
DTSTART:20261025T010000
END:DAYLIGHT
END:VTIMEZONE
BEGIN:VEVENT
DTSTART;TZID=Europe/Dublin:20250517T083000
DTEND;TZID=Europe/Dublin:20250517T103000
DTSTAMP:20260420T123922
CREATED:20250424T212158Z
LAST-MODIFIED:20250424T212158Z
UID:10000405-1747470600-1747477800@capnetworkireland.eu
SUMMARY:Smarter\, Stronger and More Competitive Rural Areas: The Way Forward for EU policies
DESCRIPTION:The Policy Webinar aims to:\n\n– present the findings of the FUTURAL policy analysis on EU-level policy support to community-led innovation in rural areas.\n– provide country-specific examples of policies and governance frameworks contributing to community-led innovation in FUTURAL countries (Austria\, Belgium\, Greece\, Lithuania\, Spain\, Romania).\n– discuss policy needs\, gaps and recommendations to further contribute to smart community-led innovation in rural areas in the 2028-2034 programming period.\n– present the initial set of FUTURAL policy recommendations on enhancing community-led innovation in post-2027 EU policies with project and external experts.
URL:https://capnetworkireland.eu/event/smarter-stronger-and-more-competitive-rural-areas-the-way-forward-for-eu-policies-2/
LOCATION:Online
CATEGORIES:International Events
END:VEVENT
BEGIN:VEVENT
DTSTART;TZID=Europe/Dublin:20250517T083000
DTEND;TZID=Europe/Dublin:20250517T103000
DTSTAMP:20260420T123922
CREATED:20250424T212158Z
LAST-MODIFIED:20250424T212158Z
UID:10000194-1747470600-1747477800@capnetworkireland.eu
SUMMARY:Smarter\, Stronger and More Competitive Rural Areas: The Way Forward for EU policies
DESCRIPTION:The Policy Webinar aims to:\n\n– present the findings of the FUTURAL policy analysis on EU-level policy support to community-led innovation in rural areas.\n– provide country-specific examples of policies and governance frameworks contributing to community-led innovation in FUTURAL countries (Austria\, Belgium\, Greece\, Lithuania\, Spain\, Romania).\n– discuss policy needs\, gaps and recommendations to further contribute to smart community-led innovation in rural areas in the 2028-2034 programming period.\n– present the initial set of FUTURAL policy recommendations on enhancing community-led innovation in post-2027 EU policies with project and external experts.
URL:https://capnetworkireland.eu/event/smarter-stronger-and-more-competitive-rural-areas-the-way-forward-for-eu-policies/
LOCATION:Online
CATEGORIES:International Events
END:VEVENT
END:VCALENDAR