
BEGIN:VCALENDAR
VERSION:2.0
PRODID:-//CAP Network Ireland - ECPv6.15.20//NONSGML v1.0//EN
CALSCALE:GREGORIAN
METHOD:PUBLISH
X-ORIGINAL-URL:https://capnetworkireland.eu
X-WR-CALDESC:Events for CAP Network Ireland
REFRESH-INTERVAL;VALUE=DURATION:PT1H
X-Robots-Tag:noindex
X-PUBLISHED-TTL:PT1H
BEGIN:VTIMEZONE
TZID:Europe/Dublin
BEGIN:STANDARD
TZOFFSETFROM:+0000
TZOFFSETTO:+0100
TZNAME:IST
DTSTART:20240331T010000
END:STANDARD
BEGIN:DAYLIGHT
TZOFFSETFROM:+0100
TZOFFSETTO:+0000
TZNAME:GMT
DTSTART:20241027T010000
END:DAYLIGHT
BEGIN:STANDARD
TZOFFSETFROM:+0000
TZOFFSETTO:+0100
TZNAME:IST
DTSTART:20250330T010000
END:STANDARD
BEGIN:DAYLIGHT
TZOFFSETFROM:+0100
TZOFFSETTO:+0000
TZNAME:GMT
DTSTART:20251026T010000
END:DAYLIGHT
BEGIN:STANDARD
TZOFFSETFROM:+0000
TZOFFSETTO:+0100
TZNAME:IST
DTSTART:20260329T010000
END:STANDARD
BEGIN:DAYLIGHT
TZOFFSETFROM:+0100
TZOFFSETTO:+0000
TZNAME:GMT
DTSTART:20261025T010000
END:DAYLIGHT
END:VTIMEZONE
BEGIN:VEVENT
DTSTART;TZID=Europe/Dublin:20250422T100000
DTEND;TZID=Europe/Dublin:20250422T163000
DTSTAMP:20260420T064938
CREATED:20250321T170723Z
LAST-MODIFIED:20250321T170723Z
UID:10000361-1745316000-1745339400@capnetworkireland.eu
SUMMARY:BISS In-Person Farmer Clinic - Trim
DESCRIPTION:The Department of Agriculture\, Food and the Marine (DAFM) is hosting a series of in-person Farmer Clinics to assist farmers in making their applications online for the Basic Income Support for Sustainability (BISS) and other area-based schemes. \nStaff from DAFM will be in attendance to provide one-to-one support to assist farmers to submit their scheme applications well in advance of the closing date of 15 May 2025. \nThese clinics are particularly useful for farmers who do not have an FAS approved advisor to assist them with their application.
URL:https://capnetworkireland.eu/event/biss-in-person-farmer-clinic-trim-2/
LOCATION:Knightsbrook Hotel\, Trim\, Co. Meath
CATEGORIES:General Events
END:VEVENT
BEGIN:VEVENT
DTSTART;TZID=Europe/Dublin:20250422T100000
DTEND;TZID=Europe/Dublin:20250422T163000
DTSTAMP:20260420T064938
CREATED:20250321T170723Z
LAST-MODIFIED:20250321T170723Z
UID:10000149-1745316000-1745339400@capnetworkireland.eu
SUMMARY:BISS In-Person Farmer Clinic - Trim
DESCRIPTION:The Department of Agriculture\, Food and the Marine (DAFM) is hosting a series of in-person Farmer Clinics to assist farmers in making their applications online for the Basic Income Support for Sustainability (BISS) and other area-based schemes. \nStaff from DAFM will be in attendance to provide one-to-one support to assist farmers to submit their scheme applications well in advance of the closing date of 15 May 2025. \nThese clinics are particularly useful for farmers who do not have an FAS approved advisor to assist them with their application.
URL:https://capnetworkireland.eu/event/biss-in-person-farmer-clinic-trim/
LOCATION:Knightsbrook Hotel\, Trim\, Co. Meath
CATEGORIES:General Events
END:VEVENT
BEGIN:VEVENT
DTSTART;TZID=Europe/Dublin:20250423T100000
DTEND;TZID=Europe/Dublin:20250423T163000
DTSTAMP:20260420T064938
CREATED:20250321T171220Z
LAST-MODIFIED:20250321T171220Z
UID:10000362-1745402400-1745425800@capnetworkireland.eu
SUMMARY:BISS In-Person Farmer Clinic - Donegal Town
DESCRIPTION:The Department of Agriculture\, Food and the Marine (DAFM) is hosting a series of in-person Farmer Clinics to assist farmers in making their applications online for the Basic Income Support for Sustainability (BISS) and other area-based schemes. \nStaff from DAFM will be in attendance to provide one-to-one support to assist farmers to submit their scheme applications well in advance of the closing date of 15 May 2025. \nThese clinics are particularly useful for farmers who do not have an FAS approved advisor to assist them with their application.
URL:https://capnetworkireland.eu/event/biss-in-person-farmer-clinic-donegal-town-2/
LOCATION:Central Hotel\, Donegal Town\, Co. Donegal
CATEGORIES:General Events
END:VEVENT
BEGIN:VEVENT
DTSTART;TZID=Europe/Dublin:20250423T100000
DTEND;TZID=Europe/Dublin:20250423T163000
DTSTAMP:20260420T064938
CREATED:20250321T171220Z
LAST-MODIFIED:20250321T171220Z
UID:10000150-1745402400-1745425800@capnetworkireland.eu
SUMMARY:BISS In-Person Farmer Clinic - Donegal Town
DESCRIPTION:The Department of Agriculture\, Food and the Marine (DAFM) is hosting a series of in-person Farmer Clinics to assist farmers in making their applications online for the Basic Income Support for Sustainability (BISS) and other area-based schemes. \nStaff from DAFM will be in attendance to provide one-to-one support to assist farmers to submit their scheme applications well in advance of the closing date of 15 May 2025. \nThese clinics are particularly useful for farmers who do not have an FAS approved advisor to assist them with their application.
URL:https://capnetworkireland.eu/event/biss-in-person-farmer-clinic-donegal-town/
LOCATION:Central Hotel\, Donegal Town\, Co. Donegal
CATEGORIES:General Events
END:VEVENT
BEGIN:VEVENT
DTSTART;TZID=Europe/Dublin:20250423T130000
DTEND;TZID=Europe/Dublin:20250423T143000
DTSTAMP:20260420T064938
CREATED:20250328T100810Z
LAST-MODIFIED:20250328T100810Z
UID:10000379-1745413200-1745418600@capnetworkireland.eu
SUMMARY:EU CAP Network's Thematic Group Meeting on Valuing Farmers' Wider Contributions to Society
DESCRIPTION:The focus of this online meeting will be on Rebranding Farming as an Attractive Career Choice for Younger Generations.
URL:https://capnetworkireland.eu/event/3rd-thematic-group-meeting-on-valuing-farmers-wider-contributions-to-society-2/
LOCATION:Online
CATEGORIES:International Events
END:VEVENT
BEGIN:VEVENT
DTSTART;TZID=Europe/Dublin:20250423T130000
DTEND;TZID=Europe/Dublin:20250423T143000
DTSTAMP:20260420T064938
CREATED:20250328T100810Z
LAST-MODIFIED:20250328T101432Z
UID:10000167-1745413200-1745418600@capnetworkireland.eu
SUMMARY:EU CAP Network's Thematic Group Meeting on Valuing Farmers’ Wider Contributions to Society
DESCRIPTION:The focus of this online meeting will be on Rebranding Farming as an Attractive Career Choice for Younger Generations.
URL:https://capnetworkireland.eu/event/3rd-thematic-group-meeting-on-valuing-farmers-wider-contributions-to-society/
LOCATION:Online
CATEGORIES:International Events
END:VEVENT
BEGIN:VEVENT
DTSTART;TZID=Europe/Dublin:20250424T100000
DTEND;TZID=Europe/Dublin:20250424T163000
DTSTAMP:20260420T064938
CREATED:20250321T171425Z
LAST-MODIFIED:20250321T171425Z
UID:10000363-1745488800-1745512200@capnetworkireland.eu
SUMMARY:BISS In-Person Farmer Clinic - Drumshanbo
DESCRIPTION:The Department of Agriculture\, Food and the Marine (DAFM) is hosting a series of in-person Farmer Clinics to assist farmers in making their applications online for the Basic Income Support for Sustainability (BISS) and other area-based schemes. \nStaff from DAFM will be in attendance to provide one-to-one support to assist farmers to submit their scheme applications well in advance of the closing date of 15 May 2025. \nThese clinics are particularly useful for farmers who do not have an FAS approved advisor to assist them with their application.
URL:https://capnetworkireland.eu/event/biss-in-person-farmer-clinic-drumshanbo-2/
LOCATION:DAFM Offices\, Drumshanbo\, Co. Leitrim
CATEGORIES:General Events
END:VEVENT
BEGIN:VEVENT
DTSTART;TZID=Europe/Dublin:20250424T100000
DTEND;TZID=Europe/Dublin:20250424T163000
DTSTAMP:20260420T064938
CREATED:20250321T171425Z
LAST-MODIFIED:20250321T171425Z
UID:10000151-1745488800-1745512200@capnetworkireland.eu
SUMMARY:BISS In-Person Farmer Clinic - Drumshanbo
DESCRIPTION:The Department of Agriculture\, Food and the Marine (DAFM) is hosting a series of in-person Farmer Clinics to assist farmers in making their applications online for the Basic Income Support for Sustainability (BISS) and other area-based schemes. \nStaff from DAFM will be in attendance to provide one-to-one support to assist farmers to submit their scheme applications well in advance of the closing date of 15 May 2025. \nThese clinics are particularly useful for farmers who do not have an FAS approved advisor to assist them with their application.
URL:https://capnetworkireland.eu/event/biss-in-person-farmer-clinic-drumshanbo/
LOCATION:DAFM Offices\, Drumshanbo\, Co. Leitrim
CATEGORIES:General Events
END:VEVENT
BEGIN:VEVENT
DTSTART;TZID=Europe/Dublin:20250425T093000
DTEND;TZID=Europe/Dublin:20250425T093000
DTSTAMP:20260420T064938
CREATED:20250401T134848Z
LAST-MODIFIED:20250401T134848Z
UID:10000180-1745573400-1745573400@capnetworkireland.eu
SUMMARY:Signpost Series Webinar: Drainage Status and Management of Peat Grasslands
DESCRIPTION:This webinar as part of The Signpost Series will focus on Drainage status and Management of Peat Grasslands.\n\nThe webinar will feature guest speaker Dr. Patrick Tuohy\, Research Officer\, Teagasc.
URL:https://capnetworkireland.eu/event/signpost-series-webinar-drainage-status-and-management-of-peat-grasslands/
LOCATION:Online
CATEGORIES:General Events
END:VEVENT
BEGIN:VEVENT
DTSTART;TZID=Europe/Dublin:20250425T093000
DTEND;TZID=Europe/Dublin:20250425T093000
DTSTAMP:20260420T064938
CREATED:20250401T134848Z
LAST-MODIFIED:20250401T134848Z
UID:10000391-1745573400-1745573400@capnetworkireland.eu
SUMMARY:Signpost Series Webinar: Drainage Status and Management of Peat Grasslands
DESCRIPTION:This webinar as part of The Signpost Series will focus on Drainage status and Management of Peat Grasslands.\n\nThe webinar will feature guest speaker Dr. Patrick Tuohy\, Research Officer\, Teagasc.
URL:https://capnetworkireland.eu/event/signpost-series-webinar-drainage-status-and-management-of-peat-grasslands-2/
LOCATION:Online
CATEGORIES:General Events
END:VEVENT
BEGIN:VEVENT
DTSTART;TZID=Europe/Dublin:20250425T123000
DTEND;TZID=Europe/Dublin:20250425T133000
DTSTAMP:20260420T064938
CREATED:20250401T135045Z
LAST-MODIFIED:20250401T135045Z
UID:10000181-1745584200-1745587800@capnetworkireland.eu
SUMMARY:Apprenticeships in Horticulture Webinar Series - April
DESCRIPTION:Part of a series of informative sessions where you can learn all about apprenticeship opportunities in the exciting field of horticulture.\n\nExpert speakers will cover different topics in each webinar; such as hands-on training\, industry certifications\, and career pathways. The webinars take place each month from 12:45pm – 1:30pm on the final Friday of each month.\n\nWhether you’re a budding gardener or a seasoned pro\, this series is suitable for anyone interested in growing their career in horticulture.
URL:https://capnetworkireland.eu/event/apprenticeships-in-horticulture-webinar-series-april/
LOCATION:Online
CATEGORIES:General Events
END:VEVENT
BEGIN:VEVENT
DTSTART;TZID=Europe/Dublin:20250425T123000
DTEND;TZID=Europe/Dublin:20250425T133000
DTSTAMP:20260420T064938
CREATED:20250401T135045Z
LAST-MODIFIED:20250401T135045Z
UID:10000392-1745584200-1745587800@capnetworkireland.eu
SUMMARY:Apprenticeships in Horticulture Webinar Series - April
DESCRIPTION:Part of a series of informative sessions where you can learn all about apprenticeship opportunities in the exciting field of horticulture.\n\nExpert speakers will cover different topics in each webinar; such as hands-on training\, industry certifications\, and career pathways. The webinars take place each month from 12:45pm – 1:30pm on the final Friday of each month.\n\nWhether you’re a budding gardener or a seasoned pro\, this series is suitable for anyone interested in growing their career in horticulture.
URL:https://capnetworkireland.eu/event/apprenticeships-in-horticulture-webinar-series-april-2/
LOCATION:Online
CATEGORIES:General Events
END:VEVENT
END:VCALENDAR