
BEGIN:VCALENDAR
VERSION:2.0
PRODID:-//CAP Network Ireland - ECPv6.15.20//NONSGML v1.0//EN
CALSCALE:GREGORIAN
METHOD:PUBLISH
X-WR-CALNAME:CAP Network Ireland
X-ORIGINAL-URL:https://capnetworkireland.eu
X-WR-CALDESC:Events for CAP Network Ireland
REFRESH-INTERVAL;VALUE=DURATION:PT1H
X-Robots-Tag:noindex
X-PUBLISHED-TTL:PT1H
BEGIN:VTIMEZONE
TZID:Europe/Dublin
BEGIN:STANDARD
TZOFFSETFROM:+0000
TZOFFSETTO:+0100
TZNAME:IST
DTSTART:20240331T010000
END:STANDARD
BEGIN:DAYLIGHT
TZOFFSETFROM:+0100
TZOFFSETTO:+0000
TZNAME:GMT
DTSTART:20241027T010000
END:DAYLIGHT
BEGIN:STANDARD
TZOFFSETFROM:+0000
TZOFFSETTO:+0100
TZNAME:IST
DTSTART:20250330T010000
END:STANDARD
BEGIN:DAYLIGHT
TZOFFSETFROM:+0100
TZOFFSETTO:+0000
TZNAME:GMT
DTSTART:20251026T010000
END:DAYLIGHT
BEGIN:STANDARD
TZOFFSETFROM:+0000
TZOFFSETTO:+0100
TZNAME:IST
DTSTART:20260329T010000
END:STANDARD
BEGIN:DAYLIGHT
TZOFFSETFROM:+0100
TZOFFSETTO:+0000
TZNAME:GMT
DTSTART:20261025T010000
END:DAYLIGHT
BEGIN:STANDARD
TZOFFSETFROM:+0000
TZOFFSETTO:+0100
TZNAME:IST
DTSTART:20270328T010000
END:STANDARD
BEGIN:DAYLIGHT
TZOFFSETFROM:+0100
TZOFFSETTO:+0000
TZNAME:GMT
DTSTART:20271031T010000
END:DAYLIGHT
END:VTIMEZONE
BEGIN:VEVENT
DTSTART;TZID=Europe/Dublin:20250429T000000
DTEND;TZID=Europe/Dublin:20250429T000000
DTSTAMP:20260424T233918
CREATED:20250328T103116Z
LAST-MODIFIED:20250328T103116Z
UID:10000168-1745884800-1745884800@capnetworkireland.eu
SUMMARY:Closing Date: Sheep Improvement Scheme
DESCRIPTION:Year 3 of the Sheep Improvement Scheme (SIS) is open to new entrants.\nThe five-year €100 million SIS provides financial support to farmers for taking extra steps to improve the welfare of their flock.\nApplications must be made on agfood.ie before 11.59 pm on 29 April 2025.
URL:https://capnetworkireland.eu/event/closing-date-sheep-improvement-scheme/
CATEGORIES:Schemes
END:VEVENT
BEGIN:VEVENT
DTSTART;TZID=Europe/Dublin:20250429T000000
DTEND;TZID=Europe/Dublin:20250429T000000
DTSTAMP:20260424T233918
CREATED:20250328T103116Z
LAST-MODIFIED:20250328T103116Z
UID:10000380-1745884800-1745884800@capnetworkireland.eu
SUMMARY:Closing Date: Sheep Improvement Scheme
DESCRIPTION:Year 3 of the Sheep Improvement Scheme (SIS) is open to new entrants.\nThe five-year €100 million SIS provides financial support to farmers for taking extra steps to improve the welfare of their flock.\nApplications must be made on agfood.ie before 11.59 pm on 29 April 2025.
URL:https://capnetworkireland.eu/event/closing-date-sheep-improvement-scheme-2/
CATEGORIES:Schemes
END:VEVENT
BEGIN:VEVENT
DTSTART;TZID=Europe/Dublin:20250515T000000
DTEND;TZID=Europe/Dublin:20250515T000000
DTSTAMP:20260424T233918
CREATED:20250324T222823Z
LAST-MODIFIED:20250324T222823Z
UID:10000157-1747267200-1747267200@capnetworkireland.eu
SUMMARY:Closing Date: BISS Applications
DESCRIPTION:Basic Income Support for Sustainability (BISS) applications must be submitted online by midnight on Thursday 15th of May 2025 through agfood.ie.
URL:https://capnetworkireland.eu/event/closing-date-biss-applications/
CATEGORIES:Schemes
END:VEVENT
BEGIN:VEVENT
DTSTART;TZID=Europe/Dublin:20250515T000000
DTEND;TZID=Europe/Dublin:20250515T000000
DTSTAMP:20260424T233918
CREATED:20250324T222823Z
LAST-MODIFIED:20250324T222823Z
UID:10000369-1747267200-1747267200@capnetworkireland.eu
SUMMARY:Closing Date: BISS Applications
DESCRIPTION:Basic Income Support for Sustainability (BISS) applications must be submitted online by midnight on Thursday 15th of May 2025 through agfood.ie.
URL:https://capnetworkireland.eu/event/closing-date-biss-applications-2/
CATEGORIES:Schemes
END:VEVENT
BEGIN:VEVENT
DTSTART;TZID=Europe/Dublin:20250515T000000
DTEND;TZID=Europe/Dublin:20250515T000000
DTSTAMP:20260424T233918
CREATED:20250324T223235Z
LAST-MODIFIED:20250324T225352Z
UID:10000158-1747267200-1747267200@capnetworkireland.eu
SUMMARY:Closing Date: National Reserve (Young Farmer) and National Reserve (New farmer) applications
DESCRIPTION:National Reserve (Young Farmer) and National Reserve (New farmer) applications must be submitted on or before 15th of May 2025 through agfood.ie.
URL:https://capnetworkireland.eu/event/closing-date-national-reserve-young-farmer-and-national-reserve-new-farmer-applications/
CATEGORIES:Schemes
END:VEVENT
BEGIN:VEVENT
DTSTART;TZID=Europe/Dublin:20250515T000000
DTEND;TZID=Europe/Dublin:20250515T000000
DTSTAMP:20260424T233918
CREATED:20250324T223235Z
LAST-MODIFIED:20250324T223235Z
UID:10000370-1747267200-1747267200@capnetworkireland.eu
SUMMARY:Closing Date: National Reserve (Young Farmer) and National Reserve (New farmer) applications
DESCRIPTION:National Reserve (Young Farmer) and National Reserve (New farmer) applications must be submitted on or before 15th of May 2025 through agfood.ie.
URL:https://capnetworkireland.eu/event/closing-date-national-reserve-young-farmer-and-national-reserve-new-farmer-applications-2/
CATEGORIES:Schemes
END:VEVENT
BEGIN:VEVENT
DTSTART;TZID=Europe/Dublin:20250515T000000
DTEND;TZID=Europe/Dublin:20250515T000000
DTSTAMP:20260424T233918
CREATED:20250324T223829Z
LAST-MODIFIED:20250324T223829Z
UID:10000159-1747267200-1747267200@capnetworkireland.eu
SUMMARY:Closing Date: Complementary Income Support for Young Farmers
DESCRIPTION:Applications under the Complementary Income Support for Young Farmers must be submitted on or before the 15th of May 2025 through agfood.ie.
URL:https://capnetworkireland.eu/event/closing-date-complementary-income-support-for-young-farmers/
CATEGORIES:Schemes
END:VEVENT
BEGIN:VEVENT
DTSTART;TZID=Europe/Dublin:20250515T000000
DTEND;TZID=Europe/Dublin:20250515T000000
DTSTAMP:20260424T233918
CREATED:20250324T223829Z
LAST-MODIFIED:20250324T223829Z
UID:10000371-1747267200-1747267200@capnetworkireland.eu
SUMMARY:Closing Date: Complementary Income Support for Young Farmers
DESCRIPTION:Applications under the Complementary Income Support for Young Farmers must be submitted on or before the 15th of May 2025 through agfood.ie.
URL:https://capnetworkireland.eu/event/closing-date-complementary-income-support-for-young-farmers-2/
CATEGORIES:Schemes
END:VEVENT
BEGIN:VEVENT
DTSTART;TZID=Europe/Dublin:20250515T000000
DTEND;TZID=Europe/Dublin:20250515T000000
DTSTAMP:20260424T233918
CREATED:20250328T103749Z
LAST-MODIFIED:20250328T103749Z
UID:10000169-1747267200-1747267200@capnetworkireland.eu
SUMMARY:Closing Date: National Dairy Beef Weighing Scheme
DESCRIPTION:The €4 million National Dairy Beef Weighing Scheme (NDBWS)\, a new initiative aimed at supporting farmers diversify their herd into beef\, has been launched.\n\nFarmers can submit their applications online via agfood.ie. The application window closes at midnight on Thursday\, 15 May 2025. However\, late applications will be accepted—subject to payment deductions—until midnight on Monday\, 9 June 2025.
URL:https://capnetworkireland.eu/event/closing-date-national-dairy-beef-weighing-scheme/
CATEGORIES:Schemes
END:VEVENT
BEGIN:VEVENT
DTSTART;TZID=Europe/Dublin:20250515T000000
DTEND;TZID=Europe/Dublin:20250515T000000
DTSTAMP:20260424T233918
CREATED:20250328T103749Z
LAST-MODIFIED:20250328T103749Z
UID:10000381-1747267200-1747267200@capnetworkireland.eu
SUMMARY:Closing Date: National Dairy Beef Weighing Scheme
DESCRIPTION:The €4 million National Dairy Beef Weighing Scheme (NDBWS)\, a new initiative aimed at supporting farmers diversify their herd into beef\, has been launched.\n\nFarmers can submit their applications online via agfood.ie. The application window closes at midnight on Thursday\, 15 May 2025. However\, late applications will be accepted””subject to payment deductions””until midnight on Monday\, 9 June 2025.
URL:https://capnetworkireland.eu/event/closing-date-national-dairy-beef-weighing-scheme-2/
CATEGORIES:Schemes
END:VEVENT
BEGIN:VEVENT
DTSTART;TZID=Europe/Dublin:20250519T000000
DTEND;TZID=Europe/Dublin:20250519T000000
DTSTAMP:20260424T233918
CREATED:20250417T154633Z
LAST-MODIFIED:20250417T154633Z
UID:10000193-1747612800-1747612800@capnetworkireland.eu
SUMMARY:Closing Date: Open Call for Farmer Safety\, Health and Wellbeing Projects
DESCRIPTION:An open call for farmer safety\, health and wellbeing projects was recently announced.\n\nSuccessful projects under the call must cover one or more of the following themes:\n– Farm safety\n– Farmers’ physical health\n– Farmers’ mental health and wellbeing\n– Farmers’ physical and mental health checks\n– Tractor driving awareness training for children 14 years of age and older\n– Chainsaw training for farmers\n– Farm safety\, health and wellbeing events/engagement\n\nApplications can be emailed to farmsafetycall@agriculture.gov.ie or sent by registered post to: Crop Policy\, Evaluation and Certification Division\, Department of Agriculture\, Food and the Marine\, Backweston Administration Building\, Celbridge\, Co. Kildare.\n\nThe closing date for applications is Monday\, 19 May 2025.
URL:https://capnetworkireland.eu/event/closing-date-open-call-for-farmer-safety-health-and-wellbeing-projects/
CATEGORIES:Schemes
END:VEVENT
BEGIN:VEVENT
DTSTART;TZID=Europe/Dublin:20250519T000000
DTEND;TZID=Europe/Dublin:20250519T000000
DTSTAMP:20260424T233918
CREATED:20250417T154633Z
LAST-MODIFIED:20250417T154633Z
UID:10000404-1747612800-1747612800@capnetworkireland.eu
SUMMARY:Closing Date: Open Call for Farmer Safety\, Health and Wellbeing Projects
DESCRIPTION:An open call for farmer safety\, health and wellbeing projects was recently announced.\n\nSuccessful projects under the call must cover one or more of the following themes:\n““ Farm safety\n““ Farmers’ physical health\n““ Farmers’ mental health and wellbeing\n““ Farmers’ physical and mental health checks\n““ Tractor driving awareness training for children 14 years of age and older\n““ Chainsaw training for farmers\n““ Farm safety\, health and wellbeing events/engagement\n\nApplications can be emailed to farmsafetycall@agriculture.gov.ie or sent by registered post to: Crop Policy\, Evaluation and Certification Division\, Department of Agriculture\, Food and the Marine\, Backweston Administration Building\, Celbridge\, Co. Kildare.\n\nThe closing date for applications is Monday\, 19 May 2025.
URL:https://capnetworkireland.eu/event/closing-date-open-call-for-farmer-safety-health-and-wellbeing-projects-2/
CATEGORIES:Schemes
END:VEVENT
BEGIN:VEVENT
DTSTART;TZID=Europe/Dublin:20250609T000000
DTEND;TZID=Europe/Dublin:20250609T000000
DTSTAMP:20260424T233918
CREATED:20250603T103112Z
LAST-MODIFIED:20250603T103112Z
UID:10000440-1749427200-1749427200@capnetworkireland.eu
SUMMARY:National Dairy Beef Weighing Scheme Deadline
DESCRIPTION:The €4 million National Dairy Beef Weighing Scheme (NDBWS)\, a new initiative aimed at supporting farmers diversify their herd into beef\, was recently launched.\n\nFarmers can submit their applications online via agfood.ie. The application window closes at midnight on Thursday\, 15 May 2025. However\, late applications will be accepted””subject to payment deductions””until midnight on Monday\, 9 June 2025.
URL:https://capnetworkireland.eu/event/national-dairy-beef-weighing-scheme/
CATEGORIES:Schemes
END:VEVENT
BEGIN:VEVENT
DTSTART;TZID=Europe/Dublin:20250711T170000
DTEND;TZID=Europe/Dublin:20250711T170000
DTSTAMP:20260424T233918
CREATED:20250625T142839Z
LAST-MODIFIED:20250625T142839Z
UID:10000455-1752253200-1752253200@capnetworkireland.eu
SUMMARY:Closing Date: Open Call for Proposals for Forestry Skills Training 2025 – 2026
DESCRIPTION:A second tranche of the open call for proposals for Forestry Skills Training was recently announced. This public call is seeking proposals for training projects that aim to expand the knowledge and capacity of various groups within the forestry sector. Groups targeted by this open call for proposals include forestry students in higher level education\, registered foresters and forestry contractors.\n\nThis open call for proposals will close for applications at 5pm on 11 July 2025.
URL:https://capnetworkireland.eu/event/closing-date-open-call-for-proposals-for-forestry-skills-training-2025-2026/
CATEGORIES:Schemes
END:VEVENT
BEGIN:VEVENT
DTSTART;TZID=Europe/Dublin:20250714T140000
DTEND;TZID=Europe/Dublin:20250714T140000
DTSTAMP:20260424T233918
CREATED:20250625T143051Z
LAST-MODIFIED:20250625T143051Z
UID:10000456-1752501600-1752501600@capnetworkireland.eu
SUMMARY:Closing Date: Children and Young Person Farm Safety Awareness Initiatives
DESCRIPTION:Proposals are being sought for projects that promote children’s and young person’s safety awareness on farms for the next five years.\n\nFunding of €200\,000 is being provided from the Department of Agriculture\, Food and the Marine (DAFM) dedicated farm safety budget for 2025\, with an option to extend the contract for a further four years. This tender will support initiatives that have the potential to make a real impact on farm safety and reduce the number of fatal and serious non-fatal incidents involving children and young people on Irish farms.\n\nThe successful initiatives must be delivered by November 2025.\n\nThe tender has been posted on the eTenders website (Reference 5887881) with a closing date of Monday 14th July 2025.
URL:https://capnetworkireland.eu/event/closing-date-children-and-young-person-farm-safety-awareness-initiatives/
CATEGORIES:Schemes
END:VEVENT
BEGIN:VEVENT
DTSTART;TZID=Europe/Dublin:20250714T170000
DTEND;TZID=Europe/Dublin:20250714T170000
DTSTAMP:20260424T233918
CREATED:20250708T105247Z
LAST-MODIFIED:20250708T105247Z
UID:10000468-1752512400-1752512400@capnetworkireland.eu
SUMMARY:Closing Date: Agricultural and Rural Inspiration Awards 2025
DESCRIPTION:The third edition of the Agricultural and Rural Inspiration Awards (ARIA)\, is searching for the greenest\, smartest\, most socially inclusive\, innovative and resilient projects funded under the Common Agriculture Policy (CAP) and implemented at the local level.\n\nThe closing date for Irish entries to ARIA is Monday 14 July at 5pm.
URL:https://capnetworkireland.eu/event/closing-date-agricultural-and-rural-inspiration-awards-2025/
CATEGORIES:Schemes
END:VEVENT
BEGIN:VEVENT
DTSTART;TZID=Europe/Dublin:20250808T170000
DTEND;TZID=Europe/Dublin:20250808T170000
DTSTAMP:20260424T233918
CREATED:20250625T162111Z
LAST-MODIFIED:20250625T162111Z
UID:10000457-1754672400-1754672400@capnetworkireland.eu
SUMMARY:Closing Date: Call for Proposals for Nature on Arable Farmland
DESCRIPTION:A new €7 million open call for project proposals under the European Innovation Partnership (EIP) measure of Ireland’s CAP Strategic Plan has been announced. The theme for this call is to support nature in an arable environment along the coast from south Cork to Wexford.\nThe closing date for the submission of EIP project proposals under this Call is 5pm on Friday 8th August 2025.
URL:https://capnetworkireland.eu/event/closing-date-call-for-proposals-for-nature-on-arable-farmland/
CATEGORIES:Schemes
END:VEVENT
BEGIN:VEVENT
DTSTART;TZID=Europe/Dublin:20250922T000000
DTEND;TZID=Europe/Dublin:20250922T000000
DTSTAMP:20260424T233918
CREATED:20250814T134512Z
LAST-MODIFIED:20250814T134512Z
UID:10000484-1758499200-1758499200@capnetworkireland.eu
SUMMARY:Closing Date: ACORNS 11
DESCRIPTION:The ACORNS programme has been designed to support early-stage female entrepreneurs living in rural Ireland and runs over six months part-time.\n\nCurrently\, there are up to 50 places available in ACORNS 11. Those wishing to apply must first register their interest via the website.\n\nThe deadline for applications is midnight\, September 22nd.
URL:https://capnetworkireland.eu/event/closing-date-acorns-11/
CATEGORIES:Schemes
END:VEVENT
BEGIN:VEVENT
DTSTART;TZID=Europe/Dublin:20250924T000000
DTEND;TZID=Europe/Dublin:20250924T000000
DTSTAMP:20260424T233918
CREATED:20250917T092531Z
LAST-MODIFIED:20250917T092531Z
UID:10000495-1758672000-1758672000@capnetworkireland.eu
SUMMARY:Closing Date: Beef Welfare Scheme
DESCRIPTION:The objective of the Beef Welfare Scheme 2025 (BWS) is to further increase the economic efficiency of and enhance animal health and husbandry on suckler farms.\n\nApplications must be made on agfood.ie.\n\nThe closing date for applications to the Beef Welfare Scheme is 23.59:59hrs on 24 September 2025.
URL:https://capnetworkireland.eu/event/closing-date-beef-welfare-scheme/
CATEGORIES:Schemes
END:VEVENT
BEGIN:VEVENT
DTSTART;TZID=Europe/Dublin:20251001T000000
DTEND;TZID=Europe/Dublin:20251001T000000
DTSTAMP:20260424T233918
CREATED:20250917T092718Z
LAST-MODIFIED:20250917T092718Z
UID:10000496-1759276800-1759276800@capnetworkireland.eu
SUMMARY:Deadline: Spreading of organic fertilisers
DESCRIPTION:The spreading of organic fertilisers (other than farmyard manure) is prohibited from 1 October 2025.
URL:https://capnetworkireland.eu/event/deadline-spreading-of-organic-fertilisers/
CATEGORIES:Schemes
END:VEVENT
BEGIN:VEVENT
DTSTART;TZID=Europe/Dublin:20251130T000000
DTEND;TZID=Europe/Dublin:20251130T000000
DTSTAMP:20260424T233918
CREATED:20251015T111245Z
LAST-MODIFIED:20251015T111245Z
UID:10000533-1764460800-1764460800@capnetworkireland.eu
SUMMARY:Closing Date: Succession Planning Advice Grant
DESCRIPTION:Succession Planning Advice Grant is a scheme specifically aimed at encouraging best practice in intergenerational land transfer in order to address\, among other things\, significant generational imbalances in farming. \nApplications may be submitted all year round\, but payments will be made in Tranches. This year’s application will open on Wed 1st of Jan 2025 and will close on 30th November 2025.
URL:https://capnetworkireland.eu/event/closing-date-succession-planning-advice-grant/
CATEGORIES:Schemes
END:VEVENT
BEGIN:VEVENT
DTSTART;TZID=Europe/Dublin:20251207T170000
DTEND;TZID=Europe/Dublin:20251207T170000
DTSTAMP:20260424T233918
CREATED:20251123T173045Z
LAST-MODIFIED:20251123T173045Z
UID:10000545-1765126800-1765126800@capnetworkireland.eu
SUMMARY:Closing Date: Call for Innvative On-Farm Enterprises in Meath
DESCRIPTION:Are you a Farmer\, Farm Family\, or Rural Entrepreneur in County Meath with an idea to diversify your farm income or develop a new on-farm business?\n\nMeath Partnership\, on behalf of the Meath Local Action Group\, is now accepting Expressions of Interest under the LEADER Programme 2023–2027 for projects that promote innovation\, sustainability\, and rural job creation.
URL:https://capnetworkireland.eu/event/closing-date-call-for-innvative-on-farm-enterprises-in-meath/
CATEGORIES:Schemes
END:VEVENT
BEGIN:VEVENT
DTSTART;TZID=Europe/Dublin:20251219T140000
DTEND;TZID=Europe/Dublin:20251219T140000
DTSTAMP:20260424T233918
CREATED:20251123T173612Z
LAST-MODIFIED:20251123T173841Z
UID:10000548-1766152800-1766152800@capnetworkireland.eu
SUMMARY:Closing Date: Targeted Call for Projects in Kildare
DESCRIPTION:County Kildare LEADER Partnership has issued a targeted call to fund energy efficiency and renewable energy upgrades for private businesses and social enterprises in Co. Kildare. The deadline for submitting an Expression of Interest is extended to Friday 19th December at 2pm.\n\nPlease note that projects and applicants must meet the eligibility criteria set out in the 2023 – 2027 LEADER Programme Operating Rules to be considered eligible in principle.\n\nAny questions about the call should be directed to leader@countykildarelp.ie.
URL:https://capnetworkireland.eu/event/closing-date-targeted-call-for-projects-in-kildare/
CATEGORIES:Schemes
END:VEVENT
BEGIN:VEVENT
DTSTART;TZID=Europe/Dublin:20251219T170000
DTEND;TZID=Europe/Dublin:20251219T170000
DTSTAMP:20260424T233918
CREATED:20251123T173434Z
LAST-MODIFIED:20251211T164436Z
UID:10000547-1766163600-1766163600@capnetworkireland.eu
SUMMARY:Closing Date: Scheme of Investment Aid for the Development of the Commercial Horticulture Sector
DESCRIPTION:The Scheme of Investment Aid for the Development of the Commercial Horticulture Sector is intended to assist in the development of the horticulture sector\, including beekeeping\, by grant aiding capital investments in specialised plant and equipment including renewable energy\, as well as technology adoption specific to commercial horticulture production.
URL:https://capnetworkireland.eu/event/closing-date-scheme-of-investment-aid-for-the-development-of-the-commercial-horticulture-sector/
CATEGORIES:Schemes
END:VEVENT
BEGIN:VEVENT
DTSTART;TZID=Europe/Dublin:20260123T000000
DTEND;TZID=Europe/Dublin:20260123T000000
DTSTAMP:20260424T233918
CREATED:20260121T145954Z
LAST-MODIFIED:20260121T145954Z
UID:10000568-1769126400-1769126400@capnetworkireland.eu
SUMMARY:Closing Date: 2026 Scheme for Innovation and Diversification in Horticulture (Capital Investments)
DESCRIPTION:The scheme is open to micro\, small and medium sized enterprises (SMEs) active in primary horticulture production. This Scheme aims to increase innovation and diversification in horticulture by grant aiding capital investments in specialised plant and equipment.
URL:https://capnetworkireland.eu/event/closing-date-2026-scheme-for-innovation-and-diversification-in-horticulture-capital-investments/
CATEGORIES:Schemes
END:VEVENT
BEGIN:VEVENT
DTSTART;TZID=Europe/Dublin:20260123T000000
DTEND;TZID=Europe/Dublin:20260123T000000
DTSTAMP:20260424T233918
CREATED:20260121T150054Z
LAST-MODIFIED:20260121T150307Z
UID:10000569-1769126400-1769126400@capnetworkireland.eu
SUMMARY:Closing Date: 2026 Scheme of Investment Aid for Innovation and Diversification in Horticulture (Feasibility/Desk Studies)
DESCRIPTION:This Scheme is aimed at small and medium sized enterprises engaging in primary horticulture production that would like to innovate and diversify in the horticulture industry but need to carry out specific studies (feasibility/desk-based) before doing so.
URL:https://capnetworkireland.eu/event/2026-scheme-of-investment-aid-for-innovation-and-diversification-in-horticulture-feasibility-desk-studies/
CATEGORIES:Schemes
END:VEVENT
BEGIN:VEVENT
DTSTART;TZID=Europe/Dublin:20260123T000000
DTEND;TZID=Europe/Dublin:20260123T000000
DTSTAMP:20260424T233918
CREATED:20260121T150141Z
LAST-MODIFIED:20260121T150227Z
UID:10000570-1769126400-1769126400@capnetworkireland.eu
SUMMARY:Closing Date: 2026 Scheme of Investment Aid for Process and Organisational Innovation in Horticulture for Large Enterprises
DESCRIPTION:This scheme is intended to assist in increasing process and organisational innovation in horticulture by providing grant aid to large enterprises active in the horticulture industry\, namely primary agricultural production.
URL:https://capnetworkireland.eu/event/2026-scheme-of-investment-aid-for-process-and-organisational-innovation-in-horticulture-for-large-enterprises/
CATEGORIES:Schemes
END:VEVENT
BEGIN:VEVENT
DTSTART;TZID=Europe/Dublin:20260202T000000
DTEND;TZID=Europe/Dublin:20260202T000000
DTSTAMP:20260424T233918
CREATED:20260121T124505Z
LAST-MODIFIED:20260121T124505Z
UID:10000566-1769990400-1769990400@capnetworkireland.eu
SUMMARY:Closing Date: Registered Farm Partnership Number
DESCRIPTION:Applicants wishing to have their Registered Farm Partnership number in time to submit by the 2026 BISS deadline\, must submit fully completed application and requirements by 2 February 2026.
URL:https://capnetworkireland.eu/event/closing-date-registered-farm-partnership-number/
CATEGORIES:Schemes
END:VEVENT
BEGIN:VEVENT
DTSTART;TZID=Europe/Dublin:20260216T150000
DTEND;TZID=Europe/Dublin:20260216T170000
DTSTAMP:20260424T233918
CREATED:20260121T144358Z
LAST-MODIFIED:20260121T144358Z
UID:10000567-1771254000-1771261200@capnetworkireland.eu
SUMMARY:Closing Date: Photo Competition to Celebrate Year of the Woman Farmer
DESCRIPTION:The Department of Agriculture\, Food and The Marine\, in association with CAP Network Ireland\, are running a Women in Agriculture photo competition to mark the International Year of the Woman Farmer 2026. It aims to recognise the vital role of women in agri-food systems and address the lack of images of female farmers\, fishers\, foresters\, and food producers for use in agri-communications and campaigns.\n\n\n\nThe competition will highlight women in farming and rural areas while aligning with the National Action Plan for Women in Agriculture\, which seeks to address the lack women-focused imagery in agri-food communications. Publicly available imagery of women is essential for appropriate recognition and representation of women farmers.
URL:https://capnetworkireland.eu/event/closing-date-photo-competition-to-celebrate-year-of-the-woman-farmer/
CATEGORIES:Schemes
END:VEVENT
END:VCALENDAR