
BEGIN:VCALENDAR
VERSION:2.0
PRODID:-//CAP Network Ireland - ECPv6.15.20//NONSGML v1.0//EN
CALSCALE:GREGORIAN
METHOD:PUBLISH
X-ORIGINAL-URL:https://capnetworkireland.eu
X-WR-CALDESC:Events for CAP Network Ireland
REFRESH-INTERVAL;VALUE=DURATION:PT1H
X-Robots-Tag:noindex
X-PUBLISHED-TTL:PT1H
BEGIN:VTIMEZONE
TZID:Europe/Dublin
BEGIN:STANDARD
TZOFFSETFROM:+0000
TZOFFSETTO:+0100
TZNAME:IST
DTSTART:20240331T010000
END:STANDARD
BEGIN:DAYLIGHT
TZOFFSETFROM:+0100
TZOFFSETTO:+0000
TZNAME:GMT
DTSTART:20241027T010000
END:DAYLIGHT
BEGIN:STANDARD
TZOFFSETFROM:+0000
TZOFFSETTO:+0100
TZNAME:IST
DTSTART:20250330T010000
END:STANDARD
BEGIN:DAYLIGHT
TZOFFSETFROM:+0100
TZOFFSETTO:+0000
TZNAME:GMT
DTSTART:20251026T010000
END:DAYLIGHT
BEGIN:STANDARD
TZOFFSETFROM:+0000
TZOFFSETTO:+0100
TZNAME:IST
DTSTART:20260329T010000
END:STANDARD
BEGIN:DAYLIGHT
TZOFFSETFROM:+0100
TZOFFSETTO:+0000
TZNAME:GMT
DTSTART:20261025T010000
END:DAYLIGHT
END:VTIMEZONE
BEGIN:VEVENT
DTSTART;TZID=Europe/Dublin:20250401T100000
DTEND;TZID=Europe/Dublin:20250401T163000
DTSTAMP:20260420T020319
CREATED:20250321T164753Z
LAST-MODIFIED:20250321T164753Z
UID:10000353-1743501600-1743525000@capnetworkireland.eu
SUMMARY:BISS In-Person Farmer Clinic - Ennis
DESCRIPTION:The Department of Agriculture\, Food and the Marine (DAFM) is hosting a series of in-person Farmer Clinics to assist farmers in making their applications online for the Basic Income Support for Sustainability (BISS) and other area-based schemes. \nStaff from DAFM will be in attendance to provide one-to-one support to assist farmers to submit their scheme applications well in advance of the closing date of 15 May 2025. \nThese clinics are particularly useful for farmers who do not have an FAS approved advisor to assist them with their application.
URL:https://capnetworkireland.eu/event/biss-in-person-farmer-clinic-ennis-2/
LOCATION:Woodstock Hotel\, Ennis\, Co. Clare
CATEGORIES:General Events
END:VEVENT
BEGIN:VEVENT
DTSTART;TZID=Europe/Dublin:20250401T100000
DTEND;TZID=Europe/Dublin:20250401T163000
DTSTAMP:20260420T020319
CREATED:20250321T164753Z
LAST-MODIFIED:20250321T164753Z
UID:10000141-1743501600-1743525000@capnetworkireland.eu
SUMMARY:BISS In-Person Farmer Clinic - Ennis
DESCRIPTION:The Department of Agriculture\, Food and the Marine (DAFM) is hosting a series of in-person Farmer Clinics to assist farmers in making their applications online for the Basic Income Support for Sustainability (BISS) and other area-based schemes. \nStaff from DAFM will be in attendance to provide one-to-one support to assist farmers to submit their scheme applications well in advance of the closing date of 15 May 2025. \nThese clinics are particularly useful for farmers who do not have an FAS approved advisor to assist them with their application.
URL:https://capnetworkireland.eu/event/biss-in-person-farmer-clinic-ennis/
LOCATION:Woodstock Hotel\, Ennis\, Co. Clare
CATEGORIES:General Events
END:VEVENT
BEGIN:VEVENT
DTSTART;TZID=Europe/Dublin:20250401T200000
DTEND;TZID=Europe/Dublin:20250401T200000
DTSTAMP:20260420T020319
CREATED:20250324T232456Z
LAST-MODIFIED:20250324T232456Z
UID:10000162-1743537600-1743537600@capnetworkireland.eu
SUMMARY:Future Beef Webinar: The Latest Technologies & How to Use Them Properly
DESCRIPTION:The webinar\, which will be chaired by Aisling Molloy\, Teagasc Future Beef Advisor will cover topics such as synchronization in cattle breeding\, sexed semen\, embryo transfer\, and a real-world experience with AI & synchronization. \nWhat You’ll Learn \n\nSynchronization in Cattle Breeding – Why use synchronization? Learn about its benefits\, animal selection\, timing\, procedures\, costs\, and success rates with expert insights from Professor David Kenny\, Head of Animal & Bioscience Department\, Teagasc\nSexed Semen – Should you reduce the number of heifers bred or maximize the number of bulls? Get the facts on optimizing your breeding strategy\nEmbryo Transfer – What is embryo transfer? Understand its pros\, cons\, pitfalls\, and costs with expert Daire Markham from Embryos Ireland\nReal-World Experience with AI & Synchronization – Billy Fraher\, Teagasc Kildalton Technician\, shares his 20+ years of experience in AI\, synchronization\, and sexed semen usage at Kildalton College and his own farm.
URL:https://capnetworkireland.eu/event/future-beef-webinar-the-latest-technologies-how-to-use-them-properly/
LOCATION:Online
CATEGORIES:General Events
END:VEVENT
BEGIN:VEVENT
DTSTART;TZID=Europe/Dublin:20250401T200000
DTEND;TZID=Europe/Dublin:20250401T200000
DTSTAMP:20260420T020319
CREATED:20250324T232456Z
LAST-MODIFIED:20250324T232456Z
UID:10000373-1743537600-1743537600@capnetworkireland.eu
SUMMARY:Future Beef Webinar: The Latest Technologies & How to Use Them Properly
DESCRIPTION:The webinar\, which will be chaired by Aisling Molloy\, Teagasc Future Beef Advisor will cover topics such as synchronization in cattle breeding\, sexed semen\, embryo transfer\, and a real-world experience with AI & synchronization. \nWhat You’ll Learn \n\nSynchronization in Cattle Breeding ““ Why use synchronization? Learn about its benefits\, animal selection\, timing\, procedures\, costs\, and success rates with expert insights from Professor David Kenny\, Head of Animal & Bioscience Department\, Teagasc\nSexed Semen ““ Should you reduce the number of heifers bred or maximize the number of bulls? Get the facts on optimizing your breeding strategy\nEmbryo Transfer ““ What is embryo transfer? Understand its pros\, cons\, pitfalls\, and costs with expert Daire Markham from Embryos Ireland\nReal-World Experience with AI & Synchronization ““ Billy Fraher\, Teagasc Kildalton Technician\, shares his 20+ years of experience in AI\, synchronization\, and sexed semen usage at Kildalton College and his own farm.
URL:https://capnetworkireland.eu/event/future-beef-webinar-the-latest-technologies-how-to-use-them-properly-2/
LOCATION:Online
CATEGORIES:General Events
END:VEVENT
END:VCALENDAR