
BEGIN:VCALENDAR
VERSION:2.0
PRODID:-//CAP Network Ireland - ECPv6.15.20//NONSGML v1.0//EN
CALSCALE:GREGORIAN
METHOD:PUBLISH
X-WR-CALNAME:CAP Network Ireland
X-ORIGINAL-URL:https://capnetworkireland.eu
X-WR-CALDESC:Events for CAP Network Ireland
REFRESH-INTERVAL;VALUE=DURATION:PT1H
X-Robots-Tag:noindex
X-PUBLISHED-TTL:PT1H
BEGIN:VTIMEZONE
TZID:Europe/Dublin
BEGIN:STANDARD
TZOFFSETFROM:+0000
TZOFFSETTO:+0100
TZNAME:IST
DTSTART:20240331T010000
END:STANDARD
BEGIN:DAYLIGHT
TZOFFSETFROM:+0100
TZOFFSETTO:+0000
TZNAME:GMT
DTSTART:20241027T010000
END:DAYLIGHT
BEGIN:STANDARD
TZOFFSETFROM:+0000
TZOFFSETTO:+0100
TZNAME:IST
DTSTART:20250330T010000
END:STANDARD
BEGIN:DAYLIGHT
TZOFFSETFROM:+0100
TZOFFSETTO:+0000
TZNAME:GMT
DTSTART:20251026T010000
END:DAYLIGHT
BEGIN:STANDARD
TZOFFSETFROM:+0000
TZOFFSETTO:+0100
TZNAME:IST
DTSTART:20260329T010000
END:STANDARD
BEGIN:DAYLIGHT
TZOFFSETFROM:+0100
TZOFFSETTO:+0000
TZNAME:GMT
DTSTART:20261025T010000
END:DAYLIGHT
END:VTIMEZONE
BEGIN:VEVENT
DTSTART;VALUE=DATE:20250321
DTEND;VALUE=DATE:20250322
DTSTAMP:20260420T040758
CREATED:20250306T120619Z
LAST-MODIFIED:20250306T120619Z
UID:10000340-1742515200-1742601599@capnetworkireland.eu
SUMMARY:International Day of Forests
DESCRIPTION:The United Nations General Assembly proclaimed 21 March the International Day of Forests (IDF) in 2012. The Day celebrates and raises awareness of the importance of all types of forests. On each International Day of Forests\, countries are encouraged to undertake local\, national and international efforts to organize activities involving forests and trees\, such as tree planting campaigns.
URL:https://capnetworkireland.eu/event/international-day-of-forests-2/
LOCATION:Worldwide
CATEGORIES:International Events
END:VEVENT
BEGIN:VEVENT
DTSTART;VALUE=DATE:20250321
DTEND;VALUE=DATE:20250322
DTSTAMP:20260420T040758
CREATED:20250306T120619Z
LAST-MODIFIED:20250306T120619Z
UID:10000128-1742515200-1742601599@capnetworkireland.eu
SUMMARY:International Day of Forests
DESCRIPTION:The United Nations General Assembly proclaimed 21 March the International Day of Forests (IDF) in 2012. The Day celebrates and raises awareness of the importance of all types of forests. On each International Day of Forests\, countries are encouraged to undertake local\, national and international efforts to organize activities involving forests and trees\, such as tree planting campaigns.
URL:https://capnetworkireland.eu/event/international-day-of-forests/
LOCATION:Worldwide
CATEGORIES:International Events
END:VEVENT
BEGIN:VEVENT
DTSTART;TZID=Europe/Dublin:20250321T093000
DTEND;TZID=Europe/Dublin:20250321T103000
DTSTAMP:20260420T040758
CREATED:20250303T154552Z
LAST-MODIFIED:20250304T171224Z
UID:10000121-1742549400-1742553000@capnetworkireland.eu
SUMMARY:Signpost Series Webinar: Ireland's Hidden Peatlands
DESCRIPTION:This webinar as part of The Signpost Series will focus on Ireland’s Hidden Peatlands. It will feature guest speaker John Connolly\, Trinity College Dublin.
URL:https://capnetworkireland.eu/event/signpost-series-webinar-irelands-hidden-peatlands/
LOCATION:Online
CATEGORIES:General Events
END:VEVENT
BEGIN:VEVENT
DTSTART;TZID=Europe/Dublin:20250321T093000
DTEND;TZID=Europe/Dublin:20250321T103000
DTSTAMP:20260420T040758
CREATED:20250303T154552Z
LAST-MODIFIED:20250303T154552Z
UID:10000333-1742549400-1742553000@capnetworkireland.eu
SUMMARY:Signpost Series Webinar: Ireland's Hidden Peatlands
DESCRIPTION:This webinar as part of The Signpost Series will focus on Ireland’s Hidden Peatlands. It will feature guest speaker John Connolly\, Trinity College Dublin.
URL:https://capnetworkireland.eu/event/signpost-series-webinar-irelands-hidden-peatlands-2/
LOCATION:Online
CATEGORIES:General Events
END:VEVENT
END:VCALENDAR